BEGIN:VCALENDAR
VERSION:2.0
PRODID:-//Corner Bookstore - ECPv6.15.20//NONSGML v1.0//EN
CALSCALE:GREGORIAN
METHOD:PUBLISH
X-WR-CALNAME:Corner Bookstore
X-ORIGINAL-URL:https://cornerbookstorenyc.com
X-WR-CALDESC:Events for Corner Bookstore
REFRESH-INTERVAL;VALUE=DURATION:PT1H
X-Robots-Tag:noindex
X-PUBLISHED-TTL:PT1H
BEGIN:VTIMEZONE
TZID:America/New_York
BEGIN:DAYLIGHT
TZOFFSETFROM:-0500
TZOFFSETTO:-0400
TZNAME:EDT
DTSTART:20100314T070000
END:DAYLIGHT
BEGIN:STANDARD
TZOFFSETFROM:-0400
TZOFFSETTO:-0500
TZNAME:EST
DTSTART:20101107T060000
END:STANDARD
BEGIN:DAYLIGHT
TZOFFSETFROM:-0500
TZOFFSETTO:-0400
TZNAME:EDT
DTSTART:20110313T070000
END:DAYLIGHT
BEGIN:STANDARD
TZOFFSETFROM:-0400
TZOFFSETTO:-0500
TZNAME:EST
DTSTART:20111106T060000
END:STANDARD
BEGIN:DAYLIGHT
TZOFFSETFROM:-0500
TZOFFSETTO:-0400
TZNAME:EDT
DTSTART:20120311T070000
END:DAYLIGHT
BEGIN:STANDARD
TZOFFSETFROM:-0400
TZOFFSETTO:-0500
TZNAME:EST
DTSTART:20121104T060000
END:STANDARD
BEGIN:DAYLIGHT
TZOFFSETFROM:-0500
TZOFFSETTO:-0400
TZNAME:EDT
DTSTART:20130310T070000
END:DAYLIGHT
BEGIN:STANDARD
TZOFFSETFROM:-0400
TZOFFSETTO:-0500
TZNAME:EST
DTSTART:20131103T060000
END:STANDARD
BEGIN:DAYLIGHT
TZOFFSETFROM:-0500
TZOFFSETTO:-0400
TZNAME:EDT
DTSTART:20140309T070000
END:DAYLIGHT
BEGIN:STANDARD
TZOFFSETFROM:-0400
TZOFFSETTO:-0500
TZNAME:EST
DTSTART:20141102T060000
END:STANDARD
BEGIN:DAYLIGHT
TZOFFSETFROM:-0500
TZOFFSETTO:-0400
TZNAME:EDT
DTSTART:20150308T070000
END:DAYLIGHT
BEGIN:STANDARD
TZOFFSETFROM:-0400
TZOFFSETTO:-0500
TZNAME:EST
DTSTART:20151101T060000
END:STANDARD
END:VTIMEZONE
BEGIN:VTIMEZONE
TZID:UTC
BEGIN:STANDARD
TZOFFSETFROM:+0000
TZOFFSETTO:+0000
TZNAME:UTC
DTSTART:20110101T000000
END:STANDARD
END:VTIMEZONE
BEGIN:VEVENT
DTSTART;TZID=America/New_York:20141119T180000
DTEND;TZID=America/New_York:20141119T200000
DTSTAMP:20260424T040431
CREATED:20141104T192730Z
LAST-MODIFIED:20141104T192730Z
UID:638-1416420000-1416427200@cornerbookstorenyc.com
SUMMARY:Celebrate the Publication of Nicholas Nixon's The Brown Sisters with MoMA curator Sarah Meister
DESCRIPTION:In August 1974\, Nick Nixon made a photograph of his wife\, Bebe\, and her three sisters. He wasn’t pleased with the result and discarded the negative. In July 1975 he made one that seemed promising enough to keep. At the time\, the Brown sisters were 15 (Mimi)\, 21 (Laurie)\, 23 (Heather)\, and 25 (Bebe). The following June\, Laurie Brown graduated from college\, and Nick made another picture of the four sisters. It was after this second successful picture that the group agreed to gather annually for a portrait\, and settled on the series’ two constants: the sisters would always appear in the same order—from left to right\, Heather\, Mimi\, Bebe\, and Laurie—and they would jointly agree on a single image to represent a given year. Also significant\, and unchanging\, is the fact that each portrait is made with an 8 x 10″ view camera on a tripod and is captured on a black-and-white film negative. This book celebrates the 40th anniversary of the series\, featuring luminous tri-tone reproductions of all 40 portraits.
URL:https://cornerbookstorenyc.com/event/celebrate-the-publication-of-nicholas-nixons-the-brown-sisters-with-moma-curator-sarah-meister/
CATEGORIES:Receptions
END:VEVENT
BEGIN:VEVENT
DTSTART;TZID=America/New_York:20141110T180000
DTEND;TZID=America/New_York:20141110T193000
DTSTAMP:20260424T040431
CREATED:20140930T161016Z
LAST-MODIFIED:20140930T161016Z
UID:631-1415642400-1415647800@cornerbookstorenyc.com
SUMMARY:Celebrate the publication of Fifty Shrinks with author Sebastian Zimermann
DESCRIPTION:  \nIn his groundbreaking new book\, Fifty Shrinks\, psychiatrist and photographer Sebastian Zimmermann presents a fascinating\, first of its kind\, photographic survey of the current field of psychiatry and psychology through penetrating portraits of fifty therapists all taken in the most sacred of places – the private office where they see their patients. Ranging from luminaries to newly minted analysts\, Zimmermann’s subjects hail from widely different orientations that collectively reveal the diversity of approaches to therapeutic practice today. \nZimmermann’s photographs in Fifty Shrinks capture the feeling of the rooms in which a powerful process occurs; and through the interviews we begin to understand why the room looks the way it does. It is a glimpse into both the private spaces we rarely see and the minds of the healers who work there. Fifty Shrinks takes one on a profound journey that inspires belief in the possibility for positive change in human behavior and understanding.
URL:https://cornerbookstorenyc.com/event/celebrate-the-publication-of-fifty-shrinks-with-author-sebastian-zimermann/
CATEGORIES:Receptions
END:VEVENT
BEGIN:VEVENT
DTSTART;TZID=UTC:20141006T180000
DTEND;TZID=UTC:20141006T200000
DTSTAMP:20260424T040431
CREATED:20140818T180310Z
LAST-MODIFIED:20140818T180310Z
UID:614-1412618400-1412625600@cornerbookstorenyc.com
SUMMARY:NYC Launch of Older and Wiser with author Dag Ahlander
DESCRIPTION:Older and Wiser! is the inspiring new sequel to Older and Happier! \, Dag Sebastian Ahlander’s joyful guide to turning retirement into a time of self-exploration. For many men\, the years after sixty-five become the best of their lives—and with good reason. The office is left behind\, the children have grown up\, and you’re healthy\, alert\, and free to do what you want. Still\, as with any big life change\, you may be looking for some words of advice and hope. Older and Wiser! reflects on the big things in life and the little ones\, and contains practical suggestions as well as reflections on aging from the world’s greatest philosophers\, writers\, and thinkers. With thoughts like “You’re too old to die young\,” “You’ve retired from your job\, not from life\,” and “Be careful when you spend more time at the pharmacy than at the wine store\,” Mr. Ahlander guides older gentlemen along the golden years of retirement. Baby boomers are again defining a new age group\, just as they once invented the modern understanding of the teenager. Now\, they’re proving to the world that old age will have to wait. This is your time now—to accomplish what you’ve always dreamed of\, to do the things you like best. Live as you want to be remembered\, and enjoy the journey.
URL:https://cornerbookstorenyc.com/event/nyc-launch-of-older-and-wiser-with-author-dag-ahlander/
CATEGORIES:Receptions
END:VEVENT
BEGIN:VEVENT
DTSTART;TZID=UTC:20140617T180000
DTEND;TZID=UTC:20140617T200000
DTSTAMP:20260424T040431
CREATED:20140513T161601Z
LAST-MODIFIED:20140513T161601Z
UID:596-1403028000-1403035200@cornerbookstorenyc.com
SUMMARY:Celebrate the publication of Papa is a Poet with Natalie Bober
DESCRIPTION:When Robert Frost was a child\, his family thought he would grow up to be a baseball player. Instead\, he became a poet. His life on a farm in New Hampshire inspired him to write “poetry that talked\,” and today he is famous for his vivid descriptions of the rural life he loved so much. There was a time\, though\, when Frost had to struggle to get his poetry published. Told from the point of view of Lesley\, Robert Frost’s oldest daughter\, this is the story of how a lover of language found his voice.
URL:https://cornerbookstorenyc.com/event/celebrate-the-publication-of-papa-is-a-poet-with-natalie-bober/
CATEGORIES:Receptions
END:VEVENT
BEGIN:VEVENT
DTSTART;TZID=UTC:20140610T180000
DTEND;TZID=UTC:20140610T200000
DTSTAMP:20260424T040431
CREATED:20140422T190857Z
LAST-MODIFIED:20140513T185832Z
UID:584-1402423200-1402430400@cornerbookstorenyc.com
SUMMARY:Celebrate the publication of The Mother Court with James D. Zirin
DESCRIPTION:This is the first book to chronicle the history of the US District Court for the Southern District of New York\, the most influential District court in the United States\, from the perspective of a practicing attorney who has argued many cases before some of its most esteemed judges. \nIt gives first-hand insight into the evolution of our justice system—where it has been\, where it is now and where it is going. It provides an anatomy of what a trial is all about in an American courtroom\, featuring the most famous trials of the period in the greatest court in the nation. It gives the reader a taste of what the storied judges of the period— Weinfeld\, Murphy\, Mansfield\, Tyler\, Motley and Palmieri\, to name a few—were all about\, how they thought\, how they judged\, and why they were the worthy keepers of our sacred right to justice\, as well as the historical traditions of the Court. \n 
URL:https://cornerbookstorenyc.com/event/celebrate-the-publication-of-the-mother-court-with-james-d-zirin/
CATEGORIES:Receptions
END:VEVENT
BEGIN:VEVENT
DTSTART;TZID=America/New_York:20140505T180000
DTEND;TZID=America/New_York:20140505T200000
DTSTAMP:20260424T040431
CREATED:20140226T193054Z
LAST-MODIFIED:20140226T193204Z
UID:547-1399312800-1399320000@cornerbookstorenyc.com
SUMMARY:Celebrate the publication of Bill Doyle's new early reader Invasion of the Junkyard Hog
DESCRIPTION:Following Attack of the Shark-Headed Zombie and Stampede of the Supermarket Slugs is Bill Doyle’s third tale of monsters and magic.\nMr. Cigam has a new job for Keats and Henry—a job working for his mixed-up stepsisters\, Lillian and Beatrice. The sisters have lost a magical compass at the Tophat Junkyard\, and ever since then\, they’ve lost their sense of direction as well. Now they need pleh! (That’s help spelled backward.) But for Keats and Henry\, finding the compass isn’t going to be easy. Something else is searching for it\, too—a magic-sniffing junkyard hog with wings\, long sharp tusks\, and an appetite for destruction!
URL:https://cornerbookstorenyc.com/event/celebrate-the-publication-of-bill-doyles-new-early-reader-invasion-of-the-junkyard-hog/
CATEGORIES:Receptions
END:VEVENT
BEGIN:VEVENT
DTSTART;TZID=America/New_York:20140430T180000
DTEND;TZID=America/New_York:20140430T200000
DTSTAMP:20260424T040431
CREATED:20140205T160023Z
LAST-MODIFIED:20140328T172545Z
UID:539-1398880800-1398888000@cornerbookstorenyc.com
SUMMARY:Celebrate the publication of Wendy Aronsson's debut Refeathering the Empty Nest
DESCRIPTION:PLEASE NOTE: This event was moved from April 16 to April 30. \nMany parents have demonstrated a desire to parent skillfully and artfully. They read the latest child development and parenting books\, configure their schedules to accommodate the social and educational lives of their children\, and focus like lasers on their childrens’ well-being. Many have made an enormous emotional and financial investment in raising their children. But children grow up\, they move out\, they create their own lives and their own homes. The role of the parent changes\, diminishes\, and evolves. \n\nThe life phase that begins in preparation for an “empty nest” and continues until parents re-feather the nest has no official name\, yet it represents a profound shift from the rigors of daily parenting to a period of self-reflection and reorientation. Here\, Wendy Aronsson centers on that experience\, capturing the realities of the emotions and life changes that come on gradually\, and sometimes proceed in fits and starts. \nRefeathering the Empty Nest is for any parent preparing for the departure from of home of their youngest child. It is for those who wish to move forward productively\, both in their new parenting role and in their roles as spouse\, employee\, friend\, neighbor\, and self. Using real stories throughout\, Aronsson shows how people have managed these changes\, how they’ve reignited the passion in their marriages or moved on from bad matches\, how they’ve rediscovered old interests and talents\, and how they’ve reinvented their relationships with their children as well. These stories provide hope and guidance to anyone whose nest is about to empty as well as those whose nests already are.
URL:https://cornerbookstorenyc.com/event/celebrate-the-publication-of-wendy-aronssons-debut-refeathering-the-empty-nest/
CATEGORIES:Receptions
END:VEVENT
BEGIN:VEVENT
DTSTART;TZID=America/New_York:20140409T180000
DTEND;TZID=America/New_York:20140409T193000
DTSTAMP:20260424T040431
CREATED:20140205T154530Z
LAST-MODIFIED:20140403T161248Z
UID:535-1397066400-1397071800@cornerbookstorenyc.com
SUMMARY:Celebrate the publication of Tori Corn's latest children's picture book Dixie Wants an Allergy
DESCRIPTION:It’s Dixie’s first day of school\, and some of her classmates are sharing details about their various allergies. Bridget tells of her wheat allergy and how she gets to order a special meal from restaurants. Dixie thinks that must be a really special meal! And Charlie had to be rushed to the hospital in an ambulance once due to his dairy allergy. Dixie thinks that must have been thrilling! Even Hannah gets to wear a fashionable bracelet due to her peanut allergy. Dixie races home and begins to eagerly search for the slightest sign of an allergy. After many failed attempts\, Dixie discovers that she is allergic to something after all. But is getting what you wish for actually as exciting as it once appeared? \nDixie Wants an Allergy provides a comical and engaging approach for children who are beginning to learn about and who are coping with allergies—and who also have trouble finding what makes them unique. Corn’s playful text and Cote’s inviting illustrations encourage children to accept those with differences while learning that wanting what others have is not always a good idea. \nPlease note that illustrator Nancy Cote will be raffling off an original piece of art from the book\,matted  and framed!  \nFor every purchased copy of Dixie\, the customer can have their name entered in a raffle which will be drawn at the end of the night. 
URL:https://cornerbookstorenyc.com/event/celebrate-the-publication-of-tori-corns-latest-childrens-picture-book-dixie-wants-an-allergy/
CATEGORIES:Receptions
END:VEVENT
BEGIN:VEVENT
DTSTART;TZID=America/New_York:20140306T180000
DTEND;TZID=America/New_York:20140306T200000
DTSTAMP:20260424T040431
CREATED:20140107T213131Z
LAST-MODIFIED:20140226T203929Z
UID:521-1394128800-1394136000@cornerbookstorenyc.com
SUMMARY:Celebrate the publication of Sally Cook's latest book How to Speak Baseball
DESCRIPTION:This handsome guide to the language of baseball decodes the amusing\, clever phrases that pepper commentary about the sport. Packed with witty explanations of everything from “duster” and “rubber arm” to “up the elevator\,” this ballpark lexicon plays on a nostalgic love for the national pastime while covering ground from baseball’s beginnings to today. This humorous mix of definitions and anecdotes is the perfect gift for both lifelong baseball fans and rookies working up the ranks. \n\nJames Charlton is the author or editor of more than three dozen books. He splits his time between New York City and Connecticut.\n\nSally Cook is a New York Times bestselling author of sports-related titles. She lives in New York City.\nRoss MacDonald is an illustrator whose work has appeared in international publications. He lives in Connecticut.
URL:https://cornerbookstorenyc.com/event/celebrate-the-publication-of-sally-cooks-latest-book-how-to-speak-baseball/
CATEGORIES:Receptions
END:VEVENT
BEGIN:VEVENT
DTSTART;TZID=America/New_York:20140220T180000
DTEND;TZID=America/New_York:20140220T200000
DTSTAMP:20260424T040431
CREATED:20131219T213505Z
LAST-MODIFIED:20140129T182256Z
UID:512-1392919200-1392926400@cornerbookstorenyc.com
SUMMARY:Elizabeth Rose Stanton celebrates the publication of her debut Henny
DESCRIPTION:Henny is a chick who’s just a little different from everyone else in the barn—and who learns to embrace her special gift in this whimsical and charming picture book debut from Elizabeth Rose Stanton. \nHenny doesn’t look like any other chicken she knows. Instead of wings\, she has arms! \n  \nSometimes Henny likes being different—she enjoys the way her arms flutter like ribbons when she runs—but other times…not so much. She just can’t do things the same way as the other chickens.But doing things the same as everyone else is overrated\, as Henny comes to realize in this warmhearted story\, sweetly told and illustrated with fresh\, expressive artwork that celebrates the individual in everyone. \n 
URL:https://cornerbookstorenyc.com/event/elizabeth-rose-stanton-celebrates-the-publication-of-her-debut-henny/
CATEGORIES:Receptions
END:VEVENT
BEGIN:VEVENT
DTSTART;TZID=UTC:20131001T170000
DTEND;TZID=UTC:20131001T190000
DTSTAMP:20260424T040431
CREATED:20130910T203626Z
LAST-MODIFIED:20130910T203626Z
UID:474-1380646800-1380654000@cornerbookstorenyc.com
SUMMARY:Launch event for Marilyn Olin and her debut Mom\, Mac & Cheese\, Please!
DESCRIPTION:A little girl is delighted that her mother has stopped working\, but when her mom starts attending cooking school\, the girl soon realizes it may not be so great after all. The kitchen has been overtaken by outlandish smells and bizarre concoctions. Day after day\, horrendous dishes are presented for the poor child. Her mother’s Barbequed Brains of a Bee and French Fried Feet of a Frog are to be grotesquely expected on Mondays and Wednesdays. Each meal brings about a horrendous side effect for the girl\, who is just waiting for a normal meal again. \nSoon\, enough is enough! The little girl has no choice but to investigate where her mother has been learning to make such repulsive cuisine. Who\, or what\, could be behind these terrible recipes? When the truth is uncovered\, it may finally put an end to all of this! This playful tale\, with gross-out text and whimsical illustrations\, is sure to make kids and parents giggle during reading time\, while reinforcing reading skills with fun rhymes and repetitions.
URL:https://cornerbookstorenyc.com/event/launch-event-for-marilyn-olin-and-her-debut-mom-mac-cheese-please/
CATEGORIES:Receptions
END:VEVENT
BEGIN:VEVENT
DTSTART;TZID=UTC:20130606T180000
DTEND;TZID=UTC:20130606T200000
DTSTAMP:20260424T040431
CREATED:20130513T213249Z
LAST-MODIFIED:20130513T213249Z
UID:426-1370541600-1370548800@cornerbookstorenyc.com
SUMMARY:Launch Event for Joan Strasbaugh and her book The List Lover's Guide to Jane Austen
DESCRIPTION:The ultimate guide to Jane Austen; that sassy\, ahead-of-her-time literary genius that we know and love. Discover her likes and dislikes\, her haves and have-nots\, where she traveled\, how she lived\, what she ate\, and who she loved. With fun illustrations and an incredible wealth of little-known facts\, it’s Jane Austen like you’ve never seen. \nFind out about…\n•Her friends and beaux\n•Every place she lived and visited\n•Books in her library\n•Her pet peeves\n•Last lines of everything she wrote \n…and more!
URL:https://cornerbookstorenyc.com/event/launch-event-for-joan-strasbaugh-and-her-book-the-list-lovers-guide-to-jane-austen/
CATEGORIES:Receptions
END:VEVENT
BEGIN:VEVENT
DTSTART;TZID=America/New_York:20130522T180000
DTEND;TZID=America/New_York:20130522T200000
DTSTAMP:20260424T040431
CREATED:20130418T193439Z
LAST-MODIFIED:20130418T194014Z
UID:407-1369245600-1369252800@cornerbookstorenyc.com
SUMMARY:Launch event for Tori Corn and her debut picture book What Will It Be\, Penelope?
DESCRIPTION:Penelope is an indecisive little girl. She likes everything she sees and has trouble when faced with having to choose what she wants. Which outfit should she wear? Which flavor of ice cream does she want to eat? Which color balloon should she choose? Everyone wants to know\, “What will it be\, Penelope?” \n  \nTori Corn\, a former textile designer\, spent many years designing fabrics and home furnishing products. She is really happy that she switched careers and decided to become a writer and illustrator. The best decision she has ever made was having her three children. This is her first picture book. Please visit her at www.toricorn.com.
URL:https://cornerbookstorenyc.com/event/launch-event-for-tori-corn-and-her-debut-picture-book-what-will-it-be-penelope/
CATEGORIES:Receptions
END:VEVENT
BEGIN:VEVENT
DTSTART;TZID=America/New_York:20130404T180000
DTEND;TZID=America/New_York:20130404T200000
DTSTAMP:20260424T040431
CREATED:20130315T183652Z
LAST-MODIFIED:20130315T183652Z
UID:389-1365098400-1365105600@cornerbookstorenyc.com
SUMMARY:Celebration for Stephanie Stokes and the publication of Elegant Rooms that Work
DESCRIPTION:Known for her understated elegance\, Stephanie Stokes explains how to maintain fantasy and functionality in home decor by focusing on the planning of comfortable and multipurpose spaces that include attractive storage. New York-based interior designer Stephanie Stokes has dealt with demanding spaces in apartments and houses worldwide. With consummate skill\, she has delivered unparalleled efficiency of space without sacrificing style. This design primer is organized by room type—from living rooms and kitchens to bedrooms and entryways. Her ingenious solutions to the challenges of creating a livable environment—from clever and attractive storage units to libraries that convert gracefully to guest rooms and home offices—are inspirational to all homeowners. With exacting precision\, she plans every anticipated need and can turn the tiniest of spaces into a cornucopia of cabinetry and imaginative storage. Her secrets for using every cubic inch while creating atmospheric environments that work are illustrated in this attractive yet practical book. \n 
URL:https://cornerbookstorenyc.com/event/celebration-for-stephanie-stokes-and-the-publication-of-elegant-rooms-that-work/
CATEGORIES:Receptions
END:VEVENT
BEGIN:VEVENT
DTSTART;TZID=UTC:20121224T180000
DTEND;TZID=UTC:20121224T193000
DTSTAMP:20260424T040431
CREATED:20121120T185133Z
LAST-MODIFIED:20121224T042727Z
UID:305-1356372000-1356377400@cornerbookstorenyc.com
SUMMARY:Annual Christmas Eve Open House 6-8 pm.
DESCRIPTION:Join us for our annual open house.
URL:https://cornerbookstorenyc.com/event/annual-christmas-eve-open-house-6-8-pm/
CATEGORIES:Receptions
END:VEVENT
BEGIN:VEVENT
DTSTART;TZID=UTC:20121113T180000
DTEND;TZID=UTC:20121113T200000
DTSTAMP:20260424T040431
CREATED:20120912T175141Z
LAST-MODIFIED:20120912T175141Z
UID:288-1352829600-1352836800@cornerbookstorenyc.com
SUMMARY:A Book signing for Alison Pace and her new book You Tell Your Dog First
DESCRIPTION:You Tell Your Dog First…About the date you just had…about the questionable results of a medical test…about the good and the bad…about everything. \nFor years\, award-winning author Alison Pace was a dog person without a dog. And then\, she got Carlie—a feisty and fluffy West Highland white terrier. She could weed out bad boyfriends with a sniff of her button-black nose and win the hearts of lifelong friends with an adoring gaze. Suddenly\, Alison had a constant companion and confidante\, who went with her on long morning rambles in Central Park\, on trips to the country and the beach\, and on her search for inner peace\, love\, and happiness. Through Carlie\, Alison found herself connected to the world as never before. \n\nWith her trademark warmth\, wit and humor\, Alison shares her stories…the tales of a dog person who found her dog.
URL:https://cornerbookstorenyc.com/event/a-book-signing-for-alison-pace-and-her-new-book-you-tell-your-dog-first/
CATEGORIES:Receptions
END:VEVENT
BEGIN:VEVENT
DTSTART;TZID=UTC:20120927T080000
DTEND;TZID=UTC:20120927T090059
DTSTAMP:20260424T040431
CREATED:20120621T183815Z
LAST-MODIFIED:20120830T160420Z
UID:226-1348732800-1348736459@cornerbookstorenyc.com
SUMMARY:8 AM: A reception for Amanda Nisbet and her new book Dazzling Design
DESCRIPTION:As one of today’s most sought-after designers\, Amanda Nisbet brings a fresh\, energetic approach to the traditional sense of luxury. Color\, texture\, and form blend to create her trademark comfortable elegance\, and her work seamlessly balances function and style\, classicism and modernism\, in beautifully unexpected ways. With over 250 spectacular photographs of New York City apartments\, country houses\, and Hamptons beach homes\, this extraordinary volume will show readers how to bring punch and color to classic rooms. \nAmanda Nisbet founded her high-end design firm in 1998 and has residential projects in the United States\, Canada\, and Europe. She has a textile line available through Holland & Sherry showrooms and Travis & Company in Atlanta\, a lighting line with Urban Electric\, and a linens line with Sferra. Her work is constantly featured in Elle Décor\, House Beautiful\, Traditional Home\, and O magazine. She lives in New York City.
URL:https://cornerbookstorenyc.com/event/a-reception-for-amanda-nisbet-and-her-new-book-dazzling-design/
CATEGORIES:Receptions
ATTACH;FMTTYPE=image/png:https://cornerbookstorenyc.com/wp-content/uploads/2012/06/Amanda-Nisbet-Dazzling-Design.png
END:VEVENT
BEGIN:VEVENT
DTSTART;TZID=UTC:20120906T180000
DTEND;TZID=UTC:20120906T200059
DTSTAMP:20260424T040431
CREATED:20120810T171004Z
LAST-MODIFIED:20120810T171628Z
UID:268-1346954400-1346961659@cornerbookstorenyc.com
SUMMARY:Elinor Lipman and Friends to celebrate Tweet Land of Liberty
DESCRIPTION:Elinor Lipman (@elinorlipman) chronicles the 2012 election season with a poem a day—all in 140 characters or less. \n“Lipman is a piquant poetic rock star!” -Wally Lamb \n“It’s nice to see that Lipman’s wit has escaped the hell of Twitter and collected itself in a book.” —Jonathan Franzen \n“Devilishly and deliciously witty. We could all use a laugh a day and Elinor Lipman has given me that.” —Judy Blume \n“Jon Stewart in 140 characters-and in the morning. What could be better?”—Stacy Schiff \n“The only sane\, smart and witty thing to come out of the Republican primaries.” —Stephen McCauley \n“With humor\, wit\, & no small share of brilliance\, Lipman’s catalogued the 2012 race in delectable sound bytes-in rhyme & under 140 characters”—Jodi Picoult
URL:https://cornerbookstorenyc.com/event/elinor-lipman-and-friends-to-celebrate-tweet-land-of-liberty/
CATEGORIES:Receptions
END:VEVENT
BEGIN:VEVENT
DTSTART;TZID=America/New_York:20120605T080000
DTEND;TZID=America/New_York:20120605T093059
DTSTAMP:20260424T040431
CREATED:20120523T072235Z
LAST-MODIFIED:20120523T072235Z
UID:204-1338883200-1338888659@cornerbookstorenyc.com
SUMMARY:Tuesday\, June 5th\, 8 a.m.-9:30 a.m. Overseas by Beatriz Williams. Reception.
DESCRIPTION:Amiens\, France\, 1916: Captain Julian Ashford\, a British officer in the trenches of the Western Front\, is waylaid in the town square by Kate\, a beautiful young American. Julian’s never seen her before\, but she has information about the reconnaissance mission he’s about to embark on. Who is she\, and why did she track him down in Amiens? \nNew York\, 2007: A young Wall Street analyst\, Kate Wilson learned to rely on logic and cynicism. So why does she fall so desperately in love with Julian Laurence\, a handsome British billionaire with a mysterious past? \nWhat she doesn’t know is that he has been waiting for her… the enchanting woman who emerged from the shadows of the Great War to save his life. \nTuesday\, June 5th\, 8 a.m.-9:30 a.m. Reception.
URL:https://cornerbookstorenyc.com/event/tuesday-june-5th-8-a-m-930-a-m-overseas-by-beatriz-williams-reception/
CATEGORIES:Receptions
ATTACH;FMTTYPE=image/jpeg:https://cornerbookstorenyc.com/wp-content/uploads/2012/05/Overseas.jpeg
END:VEVENT
BEGIN:VEVENT
DTSTART;TZID=America/New_York:20111224T180000
DTEND;TZID=America/New_York:20111224T200059
DTSTAMP:20260424T040431
CREATED:20111224T110359Z
LAST-MODIFIED:20111224T110741Z
UID:42-1324749600-1324756859@cornerbookstorenyc.com
SUMMARY:Holiday Party
DESCRIPTION:Please join us for our annual Christmas Eve Open House
URL:https://cornerbookstorenyc.com/event/holiday-party/
CATEGORIES:Receptions
END:VEVENT
END:VCALENDAR