BEGIN:VCALENDAR
VERSION:2.0
PRODID:-//Corner Bookstore - ECPv6.15.20//NONSGML v1.0//EN
CALSCALE:GREGORIAN
METHOD:PUBLISH
X-ORIGINAL-URL:https://cornerbookstorenyc.com
X-WR-CALDESC:Events for Corner Bookstore
REFRESH-INTERVAL;VALUE=DURATION:PT1H
X-Robots-Tag:noindex
X-PUBLISHED-TTL:PT1H
BEGIN:VTIMEZONE
TZID:America/New_York
BEGIN:DAYLIGHT
TZOFFSETFROM:-0500
TZOFFSETTO:-0400
TZNAME:EDT
DTSTART:20250309T070000
END:DAYLIGHT
BEGIN:STANDARD
TZOFFSETFROM:-0400
TZOFFSETTO:-0500
TZNAME:EST
DTSTART:20251102T060000
END:STANDARD
BEGIN:DAYLIGHT
TZOFFSETFROM:-0500
TZOFFSETTO:-0400
TZNAME:EDT
DTSTART:20260308T070000
END:DAYLIGHT
BEGIN:STANDARD
TZOFFSETFROM:-0400
TZOFFSETTO:-0500
TZNAME:EST
DTSTART:20261101T060000
END:STANDARD
BEGIN:DAYLIGHT
TZOFFSETFROM:-0500
TZOFFSETTO:-0400
TZNAME:EDT
DTSTART:20270314T070000
END:DAYLIGHT
BEGIN:STANDARD
TZOFFSETFROM:-0400
TZOFFSETTO:-0500
TZNAME:EST
DTSTART:20271107T060000
END:STANDARD
END:VTIMEZONE
BEGIN:VEVENT
DTSTART;TZID=America/New_York:20260324T180000
DTEND;TZID=America/New_York:20260324T193000
DTSTAMP:20260423T175352
CREATED:20260225T155211Z
LAST-MODIFIED:20260225T155211Z
UID:11800-1774375200-1774380600@cornerbookstorenyc.com
SUMMARY:Jimmy Lebenthal launches How to Ride the Subway: Getting Around on Wall Street and in Life
DESCRIPTION:Jimmy Lebenthal grew up in New York City in the ’70s and ’80s\, a hardscrabble time for Gotham. As a youth\, the city’s extensive subway system drew his attention to a degree that can only be described as passionate. It was in those years that Jimmy first started investing in public equities. From the perspective of a seasoned subway rider\, Jimmy shares his hard-fought wisdom in investing and building successful business relationships. Part how-to guide and part memoir\, the whimsy\, charm\, and intelligence of Jimmy Lebenthal makes this book a must-read for any investor.
URL:https://cornerbookstorenyc.com/event/jimmy-lebenthal-launches-how-to-ride-the-subway-getting-around-on-wall-street-and-in-life/
CATEGORIES:Receptions
END:VEVENT
END:VCALENDAR