BEGIN:VCALENDAR
VERSION:2.0
PRODID:-//Corner Bookstore - ECPv6.15.20//NONSGML v1.0//EN
CALSCALE:GREGORIAN
METHOD:PUBLISH
X-ORIGINAL-URL:https://cornerbookstorenyc.com
X-WR-CALDESC:Events for Corner Bookstore
REFRESH-INTERVAL;VALUE=DURATION:PT1H
X-Robots-Tag:noindex
X-PUBLISHED-TTL:PT1H
BEGIN:VTIMEZONE
TZID:America/New_York
BEGIN:DAYLIGHT
TZOFFSETFROM:-0500
TZOFFSETTO:-0400
TZNAME:EDT
DTSTART:20250309T070000
END:DAYLIGHT
BEGIN:STANDARD
TZOFFSETFROM:-0400
TZOFFSETTO:-0500
TZNAME:EST
DTSTART:20251102T060000
END:STANDARD
BEGIN:DAYLIGHT
TZOFFSETFROM:-0500
TZOFFSETTO:-0400
TZNAME:EDT
DTSTART:20260308T070000
END:DAYLIGHT
BEGIN:STANDARD
TZOFFSETFROM:-0400
TZOFFSETTO:-0500
TZNAME:EST
DTSTART:20261101T060000
END:STANDARD
BEGIN:DAYLIGHT
TZOFFSETFROM:-0500
TZOFFSETTO:-0400
TZNAME:EDT
DTSTART:20270314T070000
END:DAYLIGHT
BEGIN:STANDARD
TZOFFSETFROM:-0400
TZOFFSETTO:-0500
TZNAME:EST
DTSTART:20271107T060000
END:STANDARD
END:VTIMEZONE
BEGIN:VEVENT
DTSTART;TZID=America/New_York:20260319T180000
DTEND;TZID=America/New_York:20260319T193000
DTSTAMP:20260423T173406
CREATED:20260225T154412Z
LAST-MODIFIED:20260226T172021Z
UID:11797-1773943200-1773948600@cornerbookstorenyc.com
SUMMARY:Madeline Hart launches Mobilize: How to Reboot the American Industrial Base and Stop World War III
DESCRIPTION:America is in an undeclared state of emergency. Not since the Cold War has the US faced such powerful enemies—and our military isn’t ready. Shyam Sankar\, Chief Technology Officer of Palantir\, issues an urgent call to action: Mobilize. \nThe American industrial base once underwrote American victory. Builders and workers rallied to win World War II. For most of the twentieth century\, great American companies from General Mills to Chrysler had defense businesses that sent mankind into space and won the Cold War. But the forges fell silent and the furnaces went dark. America’s innovators and warfighters were ripped apart. Now China\, not America\, leads the world in manufacturing. America is the underdog. The good news is\, we’ve been here before. \nMobilize tells the remarkable true stories of the Americans who moved heaven and earth to produce for our troops and help our country win the twentieth century. And it exposes the shocking blunders that broke the Pentagon and weakened our military. \nThere’s a war for America’s future\, stymied between the forces of complacency and change. If we empower exceptional individuals and harness the power of capitalism and competition\, America can unleash the brains and brawn we need to resurrect our industrial base\, stop World War III\, and help our country build—and win.
URL:https://cornerbookstorenyc.com/event/madeline-hart-shyam-sankar-launch-mobilize-how-to-reboot-the-american-industrial-base-and-stop-world-war-iii/
CATEGORIES:Receptions
END:VEVENT
END:VCALENDAR