BEGIN:VCALENDAR
VERSION:2.0
PRODID:-//Corner Bookstore - ECPv6.15.20//NONSGML v1.0//EN
CALSCALE:GREGORIAN
METHOD:PUBLISH
X-WR-CALNAME:Corner Bookstore
X-ORIGINAL-URL:https://cornerbookstorenyc.com
X-WR-CALDESC:Events for Corner Bookstore
REFRESH-INTERVAL;VALUE=DURATION:PT1H
X-Robots-Tag:noindex
X-PUBLISHED-TTL:PT1H
BEGIN:VTIMEZONE
TZID:America/New_York
BEGIN:DAYLIGHT
TZOFFSETFROM:-0500
TZOFFSETTO:-0400
TZNAME:EDT
DTSTART:20240310T070000
END:DAYLIGHT
BEGIN:STANDARD
TZOFFSETFROM:-0400
TZOFFSETTO:-0500
TZNAME:EST
DTSTART:20241103T060000
END:STANDARD
BEGIN:DAYLIGHT
TZOFFSETFROM:-0500
TZOFFSETTO:-0400
TZNAME:EDT
DTSTART:20250309T070000
END:DAYLIGHT
BEGIN:STANDARD
TZOFFSETFROM:-0400
TZOFFSETTO:-0500
TZNAME:EST
DTSTART:20251102T060000
END:STANDARD
BEGIN:DAYLIGHT
TZOFFSETFROM:-0500
TZOFFSETTO:-0400
TZNAME:EDT
DTSTART:20260308T070000
END:DAYLIGHT
BEGIN:STANDARD
TZOFFSETFROM:-0400
TZOFFSETTO:-0500
TZNAME:EST
DTSTART:20261101T060000
END:STANDARD
END:VTIMEZONE
BEGIN:VEVENT
DTSTART;TZID=America/New_York:20250909T153000
DTEND;TZID=America/New_York:20250909T173000
DTSTAMP:20260424T023408
CREATED:20250902T164125Z
LAST-MODIFIED:20250902T164125Z
UID:11558-1757431800-1757439000@cornerbookstorenyc.com
SUMMARY:Leslie Cohen & Sean Avery launch Summer Skate
DESCRIPTION:Summer has begun on the East End of Long Island and bestselling author Jessica Riley finds herself unable to deliver on her highly anticipated second book. Her children are demanding. Her husband is preoccupied. With a deadline looming\, she fakes a mental breakdown to get away . . . only to find that the house next door is filled with rowdy hockey players. \nOne of those players is Carter Hughes\, a soon-to-be rookie on the New York Rangers\, and in Carter and his friends\, Jessica discovers a treasure trove of material for her next book. But she quickly finds herself in over her head\, as her connection with Carter spirals out of control and his behavior becomes more erratic. Meanwhile\, as Carter mixes with the power scene in the Hamptons\, one false move could turn what was supposed to be a summer of training and good times into a game he can’t afford to play. \nSexy and addictive\, Summer Skate is the sun on your skin in a string bikini. It’s the sound of skates cutting across the ice of a hockey rink\, chasing victory. It’s an answer to the question: How bad do you want it?
URL:https://cornerbookstorenyc.com/event/leslie-cohen-sean-avery-launch-summer-skate/
CATEGORIES:Receptions
END:VEVENT
END:VCALENDAR