BEGIN:VCALENDAR
VERSION:2.0
PRODID:-//Corner Bookstore - ECPv6.15.20//NONSGML v1.0//EN
CALSCALE:GREGORIAN
METHOD:PUBLISH
X-WR-CALNAME:Corner Bookstore
X-ORIGINAL-URL:https://cornerbookstorenyc.com
X-WR-CALDESC:Events for Corner Bookstore
REFRESH-INTERVAL;VALUE=DURATION:PT1H
X-Robots-Tag:noindex
X-PUBLISHED-TTL:PT1H
BEGIN:VTIMEZONE
TZID:America/New_York
BEGIN:DAYLIGHT
TZOFFSETFROM:-0500
TZOFFSETTO:-0400
TZNAME:EDT
DTSTART:20240310T070000
END:DAYLIGHT
BEGIN:STANDARD
TZOFFSETFROM:-0400
TZOFFSETTO:-0500
TZNAME:EST
DTSTART:20241103T060000
END:STANDARD
BEGIN:DAYLIGHT
TZOFFSETFROM:-0500
TZOFFSETTO:-0400
TZNAME:EDT
DTSTART:20250309T070000
END:DAYLIGHT
BEGIN:STANDARD
TZOFFSETFROM:-0400
TZOFFSETTO:-0500
TZNAME:EST
DTSTART:20251102T060000
END:STANDARD
BEGIN:DAYLIGHT
TZOFFSETFROM:-0500
TZOFFSETTO:-0400
TZNAME:EDT
DTSTART:20260308T070000
END:DAYLIGHT
BEGIN:STANDARD
TZOFFSETFROM:-0400
TZOFFSETTO:-0500
TZNAME:EST
DTSTART:20261101T060000
END:STANDARD
END:VTIMEZONE
BEGIN:VEVENT
DTSTART;TZID=America/New_York:20250401T180000
DTEND;TZID=America/New_York:20250401T193000
DTSTAMP:20260424T100549
CREATED:20250312T152223Z
LAST-MODIFIED:20250312T152223Z
UID:11389-1743530400-1743535800@cornerbookstorenyc.com
SUMMARY:Kate Swenson\, Adrian Wood and Carrie Cariello celebrate the publication of Autism Out Loud
DESCRIPTION:Kate Swenson\, Adrian Wood and Carrie Cariello are from different parts of the country and backgrounds\, but they were brought together by a singular experience: they are each a mother to a child with autism. Together they have shared laughter\, tears\, victories and the unconditional love that molds their lives. \nKate\, Adrian and Carrie have children with very different autism profiles\, and in Autism Out Loud they write about their unique experiences on a variety of topics\, from diagnosis to caregiving\, schooling and aging. Through their varied stories and lessons they’ve learned\, these incredible women provide a glimpse of what to expect on the autism journey and show parents that they are not alone.
URL:https://cornerbookstorenyc.com/event/kate-swenson-adrian-wood-and-carrie-cariello-celebrate-the-publication-of-autism-out-loud/
CATEGORIES:Receptions
END:VEVENT
END:VCALENDAR