BEGIN:VCALENDAR
VERSION:2.0
PRODID:-//Corner Bookstore - ECPv6.15.20//NONSGML v1.0//EN
CALSCALE:GREGORIAN
METHOD:PUBLISH
X-ORIGINAL-URL:https://cornerbookstorenyc.com
X-WR-CALDESC:Events for Corner Bookstore
REFRESH-INTERVAL;VALUE=DURATION:PT1H
X-Robots-Tag:noindex
X-PUBLISHED-TTL:PT1H
BEGIN:VTIMEZONE
TZID:America/New_York
BEGIN:DAYLIGHT
TZOFFSETFROM:-0500
TZOFFSETTO:-0400
TZNAME:EDT
DTSTART:20230312T070000
END:DAYLIGHT
BEGIN:STANDARD
TZOFFSETFROM:-0400
TZOFFSETTO:-0500
TZNAME:EST
DTSTART:20231105T060000
END:STANDARD
BEGIN:DAYLIGHT
TZOFFSETFROM:-0500
TZOFFSETTO:-0400
TZNAME:EDT
DTSTART:20240310T070000
END:DAYLIGHT
BEGIN:STANDARD
TZOFFSETFROM:-0400
TZOFFSETTO:-0500
TZNAME:EST
DTSTART:20241103T060000
END:STANDARD
BEGIN:DAYLIGHT
TZOFFSETFROM:-0500
TZOFFSETTO:-0400
TZNAME:EDT
DTSTART:20250309T070000
END:DAYLIGHT
BEGIN:STANDARD
TZOFFSETFROM:-0400
TZOFFSETTO:-0500
TZNAME:EST
DTSTART:20251102T060000
END:STANDARD
END:VTIMEZONE
BEGIN:VEVENT
DTSTART;TZID=America/New_York:20241212T180000
DTEND;TZID=America/New_York:20241212T190000
DTSTAMP:20260424T160928
CREATED:20241126T161540Z
LAST-MODIFIED:20241204T211513Z
UID:11227-1734026400-1734030000@cornerbookstorenyc.com
SUMMARY:Lily Tuck signs copy of her new novel The Rest is Memory
DESCRIPTION:First glimpsed riding on the back of a boy’s motorcycle\, fourteen-year-old Czeslawa comes to life in this mesmerizing novel by Lily Tuck\, who imagines her upbringing in a small Polish village before her world imploded in late 1942. Stripped of her modest belongings\, shorn\, and tattooed number 26947 on arriving at Auschwitz\, Czeslawa is then photographed. Three months later\, she is dead. \nHow did this happen to an ordinary Polish citizen? This is the question that Tuck grapples with in this haunting novel\, which frames Czeslawa’s story within the epic tragedy of six million Poles who perished during the German occupation. A decade prior to writing The Rest Is Memory\, Tuck read an obituary of the photographer Wilhelm Brasse\, who took more than 40\,000 pictures of the Auschwitz prisoners. Included were three of Czeslawa Kwoka\, a Catholic girl from rural southeastern Poland. Tuck cut out the photos and kept them\, determined to learn more about Czeslawa\, but she was only able to glean the barest facts: the village she came from\, the transport she was on\, that she was accompanied by her mother and her neighbors\, her tattoo number\, and the date of her death. From this scant evidence\, Tuck’s novel becomes a remarkable kaleidoscopic feat of imagination\, something only our greatest novelists can do.
URL:https://cornerbookstorenyc.com/event/lily-tucks-signs-copy-of-her-new-novel-the-rest-is-memory/
CATEGORIES:Receptions
ATTACH;FMTTYPE=image/jpeg:https://cornerbookstorenyc.com/wp-content/uploads/2024/11/The-Rest-is-Memory.jpg
END:VEVENT
END:VCALENDAR