BEGIN:VCALENDAR
VERSION:2.0
PRODID:-//Corner Bookstore - ECPv6.15.20//NONSGML v1.0//EN
CALSCALE:GREGORIAN
METHOD:PUBLISH
X-ORIGINAL-URL:https://cornerbookstorenyc.com
X-WR-CALDESC:Events for Corner Bookstore
REFRESH-INTERVAL;VALUE=DURATION:PT1H
X-Robots-Tag:noindex
X-PUBLISHED-TTL:PT1H
BEGIN:VTIMEZONE
TZID:America/New_York
BEGIN:DAYLIGHT
TZOFFSETFROM:-0500
TZOFFSETTO:-0400
TZNAME:EDT
DTSTART:20230312T070000
END:DAYLIGHT
BEGIN:STANDARD
TZOFFSETFROM:-0400
TZOFFSETTO:-0500
TZNAME:EST
DTSTART:20231105T060000
END:STANDARD
BEGIN:DAYLIGHT
TZOFFSETFROM:-0500
TZOFFSETTO:-0400
TZNAME:EDT
DTSTART:20240310T070000
END:DAYLIGHT
BEGIN:STANDARD
TZOFFSETFROM:-0400
TZOFFSETTO:-0500
TZNAME:EST
DTSTART:20241103T060000
END:STANDARD
BEGIN:DAYLIGHT
TZOFFSETFROM:-0500
TZOFFSETTO:-0400
TZNAME:EDT
DTSTART:20250309T070000
END:DAYLIGHT
BEGIN:STANDARD
TZOFFSETFROM:-0400
TZOFFSETTO:-0500
TZNAME:EST
DTSTART:20251102T060000
END:STANDARD
END:VTIMEZONE
BEGIN:VEVENT
DTSTART;TZID=America/New_York:20241016T180000
DTEND;TZID=America/New_York:20241016T193000
DTSTAMP:20260424T190438
CREATED:20240716T164504Z
LAST-MODIFIED:20240812T141903Z
UID:11014-1729101600-1729107000@cornerbookstorenyc.com
SUMMARY:Benjamin Swett launches his new book The Picture Not Taken
DESCRIPTION:In an age when most of us carry a device seemingly capable of freeze-framing the world\, Benjamin Swett writes with refreshing clarity on the way of the true photographer. The Picture Not Taken combines cultural criticism with personal revelation to examine how the lived experience of photography can endow the mundane with meaning while bringing attention to the beauty of both the natural world and the world we build. \nHaving photographed trees of Manhattan\, Shaker dwellings\, and the landscapes of upstate New York\, award-winning photographer and writer Swett brings an ecological sensitivity to these expansive and profound meditations on how to document the world around us. Accompanied by nearly three dozen black-and-white photographs and illustrations\, the essays in The Picture Not Taken take us from the meatpacking plants of Chicago at the turn of the last century to Coney Island to early 1980s Madrid. By turns literary criticism\, art history\, and memoir\, they draw from writers such as Eric Sanderson\, Max Frisch\, and John Berger to uncover truths about a life spent in pursuit of art. \nIn essays such as “The Picture Not Taken\,” “The Beauty of the Camera\,” and “My Father’s Green Album” Swett gives us a picture of photography over generations and how we can or should relate to the mechanical devices so often fetishized by those interested in the subject. In “What I wanted to Tell You About the Wind” we understand photography’s importance in understanding our place in larger environmental and social systems; and in “VR” and “Some Observations in the Galapagos” Swett challenges us to think through problems of perception and knowing central to the experience of photography\, looking to the past and into our future for answers. \nPoignant and deftly crafted\, The Picture Not Taken brings to mind the fearless ambition of Annie Dillard and the grand scope of Rebecca Solnit’s Field Guide to Getting Lost. Swett’s writing will appeal to readers who have enjoyed Geoff Dyer’s work\, and Susan Sontag’s writing on photography.
URL:https://cornerbookstorenyc.com/event/11014/
CATEGORIES:Receptions
END:VEVENT
END:VCALENDAR