BEGIN:VCALENDAR
VERSION:2.0
PRODID:-//Corner Bookstore - ECPv6.15.20//NONSGML v1.0//EN
CALSCALE:GREGORIAN
METHOD:PUBLISH
X-ORIGINAL-URL:https://cornerbookstorenyc.com
X-WR-CALDESC:Events for Corner Bookstore
REFRESH-INTERVAL;VALUE=DURATION:PT1H
X-Robots-Tag:noindex
X-PUBLISHED-TTL:PT1H
BEGIN:VTIMEZONE
TZID:America/New_York
BEGIN:DAYLIGHT
TZOFFSETFROM:-0500
TZOFFSETTO:-0400
TZNAME:EDT
DTSTART:20230312T070000
END:DAYLIGHT
BEGIN:STANDARD
TZOFFSETFROM:-0400
TZOFFSETTO:-0500
TZNAME:EST
DTSTART:20231105T060000
END:STANDARD
BEGIN:DAYLIGHT
TZOFFSETFROM:-0500
TZOFFSETTO:-0400
TZNAME:EDT
DTSTART:20240310T070000
END:DAYLIGHT
BEGIN:STANDARD
TZOFFSETFROM:-0400
TZOFFSETTO:-0500
TZNAME:EST
DTSTART:20241103T060000
END:STANDARD
BEGIN:DAYLIGHT
TZOFFSETFROM:-0500
TZOFFSETTO:-0400
TZNAME:EDT
DTSTART:20250309T070000
END:DAYLIGHT
BEGIN:STANDARD
TZOFFSETFROM:-0400
TZOFFSETTO:-0500
TZNAME:EST
DTSTART:20251102T060000
END:STANDARD
END:VTIMEZONE
BEGIN:VEVENT
DTSTART;TZID=America/New_York:20241009T180000
DTEND;TZID=America/New_York:20241009T193000
DTSTAMP:20260424T190505
CREATED:20240919T152820Z
LAST-MODIFIED:20240919T152820Z
UID:11182-1728496800-1728502200@cornerbookstorenyc.com
SUMMARY:Sadek Wahba launches his debut\, Build: Investing in America's Infrastructure
DESCRIPTION:America’s infrastructure—its essential roads\, bridges\, ports\, airports\, power grids\, and telecommunications systems—were once the pride of the nation and an example for the world. But now\, after years of neglect and oversight\, this infrastructure is crumbling and causing catastrophic changes in the US quality of life. Build seeks to explain how American infrastructure collapsed and what can be done to repair it. \nIn a series of colorful\, rarely told cases\, Build takes readers on a revealing tour behind the scenes of the successes and debacles of key infrastructure projects to show what works\, why the United States has failed in recent decades to invest in infrastructure\, and how the private sector can help revitalize the sector\, spur job growth\, and contribute to climate resilience. \nSadek Wahba examines the private origins of US infrastructure and the federally funded megaprojects that came after the New Deal\, investigating the role the private sector can and should play in building infrastructure. By drawing comparisons with systems in the United Kingdom\, France\, India\, and China\, Wahba shows that while privatization and public-private partnerships cannot solve all infrastructure challenges\, they are essential for closing funding gaps\, overcoming political paralysis\, and driving major infrastructure advances. \nBuild will appeal to readers interested in public finance\, domestic policy\, the role of the federal government\, tax policy\, and urban affairs.
URL:https://cornerbookstorenyc.com/event/sadek-wahba-launches-his-debut-build-investing-in-americas-infrastructure/
CATEGORIES:Receptions
END:VEVENT
END:VCALENDAR