BEGIN:VCALENDAR
VERSION:2.0
PRODID:-//Corner Bookstore - ECPv6.15.20//NONSGML v1.0//EN
CALSCALE:GREGORIAN
METHOD:PUBLISH
X-WR-CALNAME:Corner Bookstore
X-ORIGINAL-URL:https://cornerbookstorenyc.com
X-WR-CALDESC:Events for Corner Bookstore
REFRESH-INTERVAL;VALUE=DURATION:PT1H
X-Robots-Tag:noindex
X-PUBLISHED-TTL:PT1H
BEGIN:VTIMEZONE
TZID:America/New_York
BEGIN:DAYLIGHT
TZOFFSETFROM:-0500
TZOFFSETTO:-0400
TZNAME:EDT
DTSTART:20250309T070000
END:DAYLIGHT
BEGIN:STANDARD
TZOFFSETFROM:-0400
TZOFFSETTO:-0500
TZNAME:EST
DTSTART:20251102T060000
END:STANDARD
BEGIN:DAYLIGHT
TZOFFSETFROM:-0500
TZOFFSETTO:-0400
TZNAME:EDT
DTSTART:20260308T070000
END:DAYLIGHT
BEGIN:STANDARD
TZOFFSETFROM:-0400
TZOFFSETTO:-0500
TZNAME:EST
DTSTART:20261101T060000
END:STANDARD
BEGIN:DAYLIGHT
TZOFFSETFROM:-0500
TZOFFSETTO:-0400
TZNAME:EDT
DTSTART:20270314T070000
END:DAYLIGHT
BEGIN:STANDARD
TZOFFSETFROM:-0400
TZOFFSETTO:-0500
TZNAME:EST
DTSTART:20271107T060000
END:STANDARD
END:VTIMEZONE
BEGIN:VEVENT
DTSTART;TZID=America/New_York:20260615T180000
DTEND;TZID=America/New_York:20260615T193000
DTSTAMP:20260423T170332
CREATED:20260408T181238Z
LAST-MODIFIED:20260408T181238Z
UID:11870-1781546400-1781551800@cornerbookstorenyc.com
SUMMARY:Bill Keenan launches his new book The Swan and the Sentinel
DESCRIPTION:What happens when the one thing that defines you is ripped away\, and you’re forced to rebuild from the ground up? \nWhen NHL forward Liam LeClerc’s career-threatening injury refuses to heal\, desperation drives him to an unlikely solution: ballet lessons from Petra Montgomery\, a talented soloist overlooked due to her company’s politics. \nIn secret\, after-hours studio sessions\, Petra teaches Liam that strength comes in unexpected forms while he reminds her why she fell in love with dance\, before ambition complicated everything. But when their unconventional partnership threatens both their careers\, they must decide if the connection they’ve found is worth risking everything they’ve worked for. \nThe Swan and the Sentinel is a story that reminds us sometimes the best comebacks require learning an entirely new discipline\, even if it’s performed in fifth position.
URL:https://cornerbookstorenyc.com/event/bill-keenan-launches-his-new-book-the-swan-and-the-sentinel/
CATEGORIES:Receptions
END:VEVENT
END:VCALENDAR