BEGIN:VCALENDAR
VERSION:2.0
PRODID:-//Corner Bookstore - ECPv6.15.20//NONSGML v1.0//EN
CALSCALE:GREGORIAN
METHOD:PUBLISH
X-ORIGINAL-URL:https://cornerbookstorenyc.com
X-WR-CALDESC:Events for Corner Bookstore
REFRESH-INTERVAL;VALUE=DURATION:PT1H
X-Robots-Tag:noindex
X-PUBLISHED-TTL:PT1H
BEGIN:VTIMEZONE
TZID:America/New_York
BEGIN:DAYLIGHT
TZOFFSETFROM:-0500
TZOFFSETTO:-0400
TZNAME:EDT
DTSTART:20250309T070000
END:DAYLIGHT
BEGIN:STANDARD
TZOFFSETFROM:-0400
TZOFFSETTO:-0500
TZNAME:EST
DTSTART:20251102T060000
END:STANDARD
BEGIN:DAYLIGHT
TZOFFSETFROM:-0500
TZOFFSETTO:-0400
TZNAME:EDT
DTSTART:20260308T070000
END:DAYLIGHT
BEGIN:STANDARD
TZOFFSETFROM:-0400
TZOFFSETTO:-0500
TZNAME:EST
DTSTART:20261101T060000
END:STANDARD
BEGIN:DAYLIGHT
TZOFFSETFROM:-0500
TZOFFSETTO:-0400
TZNAME:EDT
DTSTART:20270314T070000
END:DAYLIGHT
BEGIN:STANDARD
TZOFFSETFROM:-0400
TZOFFSETTO:-0500
TZNAME:EST
DTSTART:20271107T060000
END:STANDARD
END:VTIMEZONE
BEGIN:VEVENT
DTSTART;TZID=America/New_York:20260224T160000
DTEND;TZID=America/New_York:20260224T180000
DTSTAMP:20260423T173522
CREATED:20260108T195132Z
LAST-MODIFIED:20260108T195132Z
UID:11763-1771948800-1771956000@cornerbookstorenyc.com
SUMMARY:Celebrate the launch of Emily Saw a Door with author Mel Rosenberg and illustrator Orit Magia
DESCRIPTION:Knock\, knock.\nWho’s there?\nIt’s me\, Emily. May I come in? \nAnd so begins Emily’s search for a door that will open. The first door is blue\, and the voice behind the door tells Emily that she doesn’t sound very bluish. The second door says it only opens for tigers\, crocodiles\, and snakes. But she is a girl named Emily– and the animals are hungry–and so she moves on. The third is only for people who speak very quietly\, and the door can hear Emily. \nFinally\, Emily comes to a place without a door. She gets out her chalk and draws one\, then adds a doorknob\, and goes right in. And when someone knocks on her door\, she says\, “The door is open!” \nHere is a wonderful book about inclusion\, acceptance\, and opening doors for others.
URL:https://cornerbookstorenyc.com/event/celebrate-the-launch-of-emily-saw-a-door-with-author-mel-rosenberg-and-illustrator-orit-magia/
CATEGORIES:Receptions
END:VEVENT
END:VCALENDAR