BEGIN:VCALENDAR
VERSION:2.0
PRODID:-//Corner Bookstore - ECPv6.15.20//NONSGML v1.0//EN
CALSCALE:GREGORIAN
METHOD:PUBLISH
X-ORIGINAL-URL:https://cornerbookstorenyc.com
X-WR-CALDESC:Events for Corner Bookstore
REFRESH-INTERVAL;VALUE=DURATION:PT1H
X-Robots-Tag:noindex
X-PUBLISHED-TTL:PT1H
BEGIN:VTIMEZONE
TZID:America/New_York
BEGIN:DAYLIGHT
TZOFFSETFROM:-0500
TZOFFSETTO:-0400
TZNAME:EDT
DTSTART:20240310T070000
END:DAYLIGHT
BEGIN:STANDARD
TZOFFSETFROM:-0400
TZOFFSETTO:-0500
TZNAME:EST
DTSTART:20241103T060000
END:STANDARD
BEGIN:DAYLIGHT
TZOFFSETFROM:-0500
TZOFFSETTO:-0400
TZNAME:EDT
DTSTART:20250309T070000
END:DAYLIGHT
BEGIN:STANDARD
TZOFFSETFROM:-0400
TZOFFSETTO:-0500
TZNAME:EST
DTSTART:20251102T060000
END:STANDARD
BEGIN:DAYLIGHT
TZOFFSETFROM:-0500
TZOFFSETTO:-0400
TZNAME:EDT
DTSTART:20260308T070000
END:DAYLIGHT
BEGIN:STANDARD
TZOFFSETFROM:-0400
TZOFFSETTO:-0500
TZNAME:EST
DTSTART:20261101T060000
END:STANDARD
END:VTIMEZONE
BEGIN:VEVENT
DTSTART;TZID=America/New_York:20250603T180000
DTEND;TZID=America/New_York:20250603T193000
DTSTAMP:20260424T053212
CREATED:20250428T145444Z
LAST-MODIFIED:20250428T145444Z
UID:11441-1748973600-1748979000@cornerbookstorenyc.com
SUMMARY:Jena Kingsley launches her debut  Darcy Dates
DESCRIPTION:Darcy Dates is a hilarious and unfiltered dating diary based on the popular 2010 blog of the same name. Written at a time when people clung to their BlackBerrys\, Instagram didn’t exist\, and there was no debate over whether or not skinny jeans were cool. They just were. Seven years of marriage\, one child and one divorce later\, Darcy found herself back in the dating pool of New York City. Only things were different. She was a single mom living on the Upper East Side\, navigating dating as an adult\, where people carried more baggage than any bellhop at the Pierre could handle. One night\, alone in her room\, she began to document her dates in the form of a blog. The blog became her diary. This book is her diary. Darcy Dates is the perfect balance of comedic\, cringey and touching. You will belly laugh\, you may tear up\, you may want to look away at times. Most importantly the reader will be cheering Darcy on in her quest for love. But over time she starts to wonder… maybe it’s not love she was looking for all along. Maybe she was just looking for herself. Names and locations have been changed to protect the innocent.
URL:https://cornerbookstorenyc.com/event/jena-kingsley-launches-her-debut-darcy-dates/
CATEGORIES:Receptions
END:VEVENT
BEGIN:VEVENT
DTSTART;TZID=America/New_York:20250609T160000
DTEND;TZID=America/New_York:20250609T180000
DTSTAMP:20260424T053212
CREATED:20250408T181036Z
LAST-MODIFIED:20250417T144807Z
UID:11416-1749484800-1749492000@cornerbookstorenyc.com
SUMMARY:Sabrina Kleckner launches her new book The Complex Art of Being Maisie Clark
DESCRIPTION:All eighteen-year-old Maisie Clark wants to do is leave her tiny town in upstate New York. Crescent Valley is home to Glenna’s\, the family-run portrait shop she loves more than anything. But after years of imitating her dad’s artistic style\, Maisie fears she will never find her own voice. So\, she comes up with a plan: quit working at Glenna’s\, go to art school in London\, and\, most importantly\, stop painting portraits. If she can’t find her voice by the end of the year\, she’ll give up art entirely. \nUnfortunately\, pushing outside her comfort zone is (surprise!) uncomfortable. Maisie struggles to connect with her eccentric new flatmates\, feels farther away from her best friend than ever\, and hates every art course she signed up for—especially photography\, where her talented but prickly partner\, Eli\, is not afraid to point out her every mistake on their semester-long project. Maisie is already questioning all her life choices when a crime strikes Glenna’s\, reopening old family wounds she thought she’d long healed from. It’ll take even more discomfort\, as well as help from Eli\, her older brother\, Calum\, and his earnest boyfriend\, Benji\, to confront the layers she’s painted over the past. But maybe\, just maybe\, the keys to finding herself lie closer to home than she realized.
URL:https://cornerbookstorenyc.com/event/sabrina-kleckner-launches-her-new-book-the-complex-art-of-being-maisie-clark/
CATEGORIES:Receptions
END:VEVENT
BEGIN:VEVENT
DTSTART;TZID=America/New_York:20250617T180000
DTEND;TZID=America/New_York:20250617T193000
DTSTAMP:20260424T053212
CREATED:20250501T142043Z
LAST-MODIFIED:20250501T164717Z
UID:11444-1750183200-1750188600@cornerbookstorenyc.com
SUMMARY:Dr. Harry Agress\, Jr.  launches his book Next Years Best Years: Taking Your Retirement to the Next Level
DESCRIPTION:Following a 36-year medical career in the field of Radiology\, Dr. Harry Agress Jr retired at age 68. He is an experienced teacher and nationally recognized lecturer who takes great joy in passing on what he has learned and experienced both in medicine and life. \n\n\n\n\nDr. Agress has been profiled in The Wall Street Journal and appeared on NBC’s “The Today Show\,” lectured at the 92NY in New York City and been featured in Marquis Who’s Who in Medicine and Healthcare\, Who’s Who in America and America’s Top Doctors. \n\n\n\n\nIn Next Years Best Years Dr. Agress dives into the many exploits he and others have embraced as they create a new post-career life from reassessment and self-reflection to volunteering\, photography\, teaching\, sports\, coaching\, acting and much more.
URL:https://cornerbookstorenyc.com/event/dr-harry-agress-jr-launches-his-book-next-years-best-years-taking-your-retirement-to-the-next-level/
CATEGORIES:Receptions
END:VEVENT
END:VCALENDAR