BEGIN:VCALENDAR
VERSION:2.0
PRODID:-//Corner Bookstore - ECPv6.15.20//NONSGML v1.0//EN
CALSCALE:GREGORIAN
METHOD:PUBLISH
X-ORIGINAL-URL:https://cornerbookstorenyc.com
X-WR-CALDESC:Events for Corner Bookstore
REFRESH-INTERVAL;VALUE=DURATION:PT1H
X-Robots-Tag:noindex
X-PUBLISHED-TTL:PT1H
BEGIN:VTIMEZONE
TZID:America/New_York
BEGIN:DAYLIGHT
TZOFFSETFROM:-0500
TZOFFSETTO:-0400
TZNAME:EDT
DTSTART:20240310T070000
END:DAYLIGHT
BEGIN:STANDARD
TZOFFSETFROM:-0400
TZOFFSETTO:-0500
TZNAME:EST
DTSTART:20241103T060000
END:STANDARD
BEGIN:DAYLIGHT
TZOFFSETFROM:-0500
TZOFFSETTO:-0400
TZNAME:EDT
DTSTART:20250309T070000
END:DAYLIGHT
BEGIN:STANDARD
TZOFFSETFROM:-0400
TZOFFSETTO:-0500
TZNAME:EST
DTSTART:20251102T060000
END:STANDARD
BEGIN:DAYLIGHT
TZOFFSETFROM:-0500
TZOFFSETTO:-0400
TZNAME:EDT
DTSTART:20260308T070000
END:DAYLIGHT
BEGIN:STANDARD
TZOFFSETFROM:-0400
TZOFFSETTO:-0500
TZNAME:EST
DTSTART:20261101T060000
END:STANDARD
END:VTIMEZONE
BEGIN:VEVENT
DTSTART;TZID=America/New_York:20250508T163000
DTEND;TZID=America/New_York:20250508T183000
DTSTAMP:20260424T071557
CREATED:20250311T174450Z
LAST-MODIFIED:20250311T174450Z
UID:11385-1746721800-1746729000@cornerbookstorenyc.com
SUMMARY:Lisa Greenwald signs copies of her new book The Summer of the Fortune Tellers
DESCRIPTION:Is the magic really back? \nWhen Mille\, Nora\, and Bea found fortune tellers popping up in unexpected places—with eerily accurate fortunes—they reunited as best friends. Now that they’re back to being besties\, they’re excited to spend the summer together outside the city. Recruited into babysitting eight-year-old triplets and staying with Millie’s family\, the girls are hoping this will be their own private summer camp\, one where they’re in charge\, away from annoying siblings and toxic frenemies. \nBut nothing perfect can last. When everything from homesickness and boy craziness to real estate developers threaten their summer\, Millie\, Nora\, and Bea start stumbling upon fortune tellers in the strangest places. And once again it feels like these fortune tellers are speaking to them: Sometimes in life you just have to jump in. Speak your mind and stand up for what you believe in! You are here for a reason. If they speak up\, can Millie\, Nora\, and Bea really save the summer—and the community—before it’s too late?
URL:https://cornerbookstorenyc.com/event/lisa-greenwald-signs-copies-of-her-new-book-the-summer-of-the-fortune-tellers/
CATEGORIES:Receptions
END:VEVENT
BEGIN:VEVENT
DTSTART;TZID=America/New_York:20250514T180000
DTEND;TZID=America/New_York:20250514T193000
DTSTAMP:20260424T071557
CREATED:20250408T181243Z
LAST-MODIFIED:20250417T144345Z
UID:11418-1747245600-1747251000@cornerbookstorenyc.com
SUMMARY:Amy Larocca launches her How to Be Well
DESCRIPTION:Peloton. Pilates. Biohacking. Colonics. Ashwagandha. Today\, the wellness industry is a $3.7 trillion behemoth that touches us all. In this timely and clear-eyed book\, journalist Amy Larocca peels back the layers behind the wellness movement and reckons with its promises and profits. How did we get here and how did the idea of wellness become integrated with women’s lives? And how did we end up spending so much money on products that may not work at all? \nAmy Larocca takes readers into the communities that swear by their activated charcoal toothpaste and green juice enemas\, explaining what each of these practices really is—and what the science says. Larocca holds a magnifying glass to alternative medicine and nouveau lifestyle prescriptions — and tries a lot herself along the way — ultimately delivering an assessment of how the wellness industry embodies our (gendered\, class-based\, racialized) perceptions of care and self-improvement\, and how it preys on our unshakable fear of the unknown. She traces the history of how the beauty and fashion industries have peddled snake oil to women for decades—and why we keep coming back for more.
URL:https://cornerbookstorenyc.com/event/amy-larocca-launches-her-how-to-be-well/
CATEGORIES:Receptions
END:VEVENT
BEGIN:VEVENT
DTSTART;TZID=America/New_York:20250515T160000
DTEND;TZID=America/New_York:20250515T180000
DTSTAMP:20260424T071557
CREATED:20250331T172922Z
LAST-MODIFIED:20250331T174648Z
UID:11405-1747324800-1747332000@cornerbookstorenyc.com
SUMMARY:Christine Mott launches her debut picture book Free Bird
DESCRIPTION:Embark on an exciting journey with Flaco the owl in Free Bird: Flaco the Owl’s Dreams Take Flight! This captivating picture book\, perfect for children ages 4-8\, is based on a true story that will inspire and delight young readers. \nFlaco\, a brave and determined owl\, dreams of breaking free from his cage at the zoo and soaring through the sky. One day\, he seizes the opportunity to escape and finally experience the freedom he has always longed for. Follow Flaco as he navigates the bustling streets of New York City\, learns to fly\, and makes new friends along the way. \nThrough Flaco’s eyes\, children will learn the importance of following their dreams and showing compassion for wild animals. This heartwarming tale is beautifully illustrated and will leave a lasting impression on readers of all ages. Join Flaco on his incredible adventure and be inspired to reach for the stars! \nThis book comes with a bonus educational section in the back for all the curious readers. Discover amazing facts about owls that will make early learning fun and help connect the story to the real world. \n50% of author’s book royalties will be donated to the Wild Bird Fund\, a 501(c)(3) non-profit that rehabilitates sick\, injured and orphaned wildlife and releases them back to the wilds of New York City.
URL:https://cornerbookstorenyc.com/event/christine-mott-launches-her-debut-picture-book-free-bird/
CATEGORIES:Receptions
END:VEVENT
END:VCALENDAR