BEGIN:VCALENDAR
VERSION:2.0
PRODID:-//Corner Bookstore - ECPv6.15.20//NONSGML v1.0//EN
CALSCALE:GREGORIAN
METHOD:PUBLISH
X-ORIGINAL-URL:https://cornerbookstorenyc.com
X-WR-CALDESC:Events for Corner Bookstore
REFRESH-INTERVAL;VALUE=DURATION:PT1H
X-Robots-Tag:noindex
X-PUBLISHED-TTL:PT1H
BEGIN:VTIMEZONE
TZID:America/New_York
BEGIN:DAYLIGHT
TZOFFSETFROM:-0500
TZOFFSETTO:-0400
TZNAME:EDT
DTSTART:20230312T070000
END:DAYLIGHT
BEGIN:STANDARD
TZOFFSETFROM:-0400
TZOFFSETTO:-0500
TZNAME:EST
DTSTART:20231105T060000
END:STANDARD
BEGIN:DAYLIGHT
TZOFFSETFROM:-0500
TZOFFSETTO:-0400
TZNAME:EDT
DTSTART:20240310T070000
END:DAYLIGHT
BEGIN:STANDARD
TZOFFSETFROM:-0400
TZOFFSETTO:-0500
TZNAME:EST
DTSTART:20241103T060000
END:STANDARD
BEGIN:DAYLIGHT
TZOFFSETFROM:-0500
TZOFFSETTO:-0400
TZNAME:EDT
DTSTART:20250309T070000
END:DAYLIGHT
BEGIN:STANDARD
TZOFFSETFROM:-0400
TZOFFSETTO:-0500
TZNAME:EST
DTSTART:20251102T060000
END:STANDARD
END:VTIMEZONE
BEGIN:VEVENT
DTSTART;TZID=America/New_York:20240910T180000
DTEND;TZID=America/New_York:20240910T193000
DTSTAMP:20260424T190203
CREATED:20240716T163808Z
LAST-MODIFIED:20240716T182537Z
UID:11004-1725991200-1725996600@cornerbookstorenyc.com
SUMMARY:Elizabeth L. Block launches her new book Beyond Vanity
DESCRIPTION:In the nineteenth century\, the complex cultural meaning of hair was not only significant\, but it could also impact one’s place in society. After the Civil War\, hairdressing was also a growing profession and the hair industry a mainstay of local\, national\, and international commerce. In Beyond Vanity\, Elizabeth Block expands the nascent field of hair studies by restoring women’s hair as a cultural site of meaning in the early United States. With a special focus on the places and spaces in which the hair industry operated\, Block argues that the importance of hair has been overlooked due to its ephemerality as well as its misguided association with frivolity and triviality. As Block clarifies\, hairdressing was anything but frivolous. \nUsing methods of visual and material culture studies informed by concepts of cultural geography\, Block identifies multiple substantive categories of place and space within which hair acted. These include the preparatory places of the bedroom\, hair salon\, and enslaved peoples’ quarters\, as well as the presentation places of parties\, fairs\, stages\, and workplaces. Here are also the untold stories of business owners\, many of whom were women of color\, and the creators of trendsetting styles like the pompadour and Gibson Girl bouffant. Block’s ground-breaking study examines how race and racism affected who participated in the presentation and business of hair\, and according to which standards. The result of looking closely at the places and spaces of hair is a reconfiguration that allows a new understanding of the cultural power of hair in the period.
URL:https://cornerbookstorenyc.com/event/elizabeth-block-launches-her-new-book-beyond-vanity/
CATEGORIES:Receptions
END:VEVENT
END:VCALENDAR