BEGIN:VCALENDAR
VERSION:2.0
PRODID:-//Corner Bookstore - ECPv6.15.20//NONSGML v1.0//EN
CALSCALE:GREGORIAN
METHOD:PUBLISH
X-ORIGINAL-URL:https://cornerbookstorenyc.com
X-WR-CALDESC:Events for Corner Bookstore
REFRESH-INTERVAL;VALUE=DURATION:PT1H
X-Robots-Tag:noindex
X-PUBLISHED-TTL:PT1H
BEGIN:VTIMEZONE
TZID:America/New_York
BEGIN:DAYLIGHT
TZOFFSETFROM:-0500
TZOFFSETTO:-0400
TZNAME:EDT
DTSTART:20230312T070000
END:DAYLIGHT
BEGIN:STANDARD
TZOFFSETFROM:-0400
TZOFFSETTO:-0500
TZNAME:EST
DTSTART:20231105T060000
END:STANDARD
BEGIN:DAYLIGHT
TZOFFSETFROM:-0500
TZOFFSETTO:-0400
TZNAME:EDT
DTSTART:20240310T070000
END:DAYLIGHT
BEGIN:STANDARD
TZOFFSETFROM:-0400
TZOFFSETTO:-0500
TZNAME:EST
DTSTART:20241103T060000
END:STANDARD
BEGIN:DAYLIGHT
TZOFFSETFROM:-0500
TZOFFSETTO:-0400
TZNAME:EDT
DTSTART:20250309T070000
END:DAYLIGHT
BEGIN:STANDARD
TZOFFSETFROM:-0400
TZOFFSETTO:-0500
TZNAME:EST
DTSTART:20251102T060000
END:STANDARD
END:VTIMEZONE
BEGIN:VEVENT
DTSTART;TZID=America/New_York:20240709T180000
DTEND;TZID=America/New_York:20240709T193000
DTSTAMP:20260424T220136
CREATED:20240607T193044Z
LAST-MODIFIED:20240607T193601Z
UID:10757-1720548000-1720553400@cornerbookstorenyc.com
SUMMARY:Derek V. Schuster launches his first book Youth in Jeopardy
DESCRIPTION:In this complex world of today\, with so many “at risk” tweens and teens grappling with issues\, problems and crises\, can a fresh perspective on their trials and tribulations help to turn them around? \nShelves and shelves of books have been written about children who are at risk of violent and criminal behavior\, but their authors are writing from their academic perches – rather than addressing real experiences in the streets and in the homes of at-risk families. \nYouth in Jeopardy offers a practical alternative. Instead of presenting dry academic studies about the “at risk” population\, it draws on the author’s 20+ years of experience in violence prevention work in the Bronx and East Harlem. Filled with gut-wrenching anecdotes\, it delivers what parents\, therapists\, and teachers nationwide desperately seek: fresh\, practical approaches to violence prevention for rebellious tweens and teens.
URL:https://cornerbookstorenyc.com/event/derek-v-schuster-launches-his-first-book-youth-in-jeopardy/
CATEGORIES:Receptions
END:VEVENT
END:VCALENDAR