BEGIN:VCALENDAR
VERSION:2.0
PRODID:-//Corner Bookstore - ECPv6.15.20//NONSGML v1.0//EN
CALSCALE:GREGORIAN
METHOD:PUBLISH
X-ORIGINAL-URL:https://cornerbookstorenyc.com
X-WR-CALDESC:Events for Corner Bookstore
REFRESH-INTERVAL;VALUE=DURATION:PT1H
X-Robots-Tag:noindex
X-PUBLISHED-TTL:PT1H
BEGIN:VTIMEZONE
TZID:America/New_York
BEGIN:DAYLIGHT
TZOFFSETFROM:-0500
TZOFFSETTO:-0400
TZNAME:EDT
DTSTART:20230312T070000
END:DAYLIGHT
BEGIN:STANDARD
TZOFFSETFROM:-0400
TZOFFSETTO:-0500
TZNAME:EST
DTSTART:20231105T060000
END:STANDARD
BEGIN:DAYLIGHT
TZOFFSETFROM:-0500
TZOFFSETTO:-0400
TZNAME:EDT
DTSTART:20240310T070000
END:DAYLIGHT
BEGIN:STANDARD
TZOFFSETFROM:-0400
TZOFFSETTO:-0500
TZNAME:EST
DTSTART:20241103T060000
END:STANDARD
BEGIN:DAYLIGHT
TZOFFSETFROM:-0500
TZOFFSETTO:-0400
TZNAME:EDT
DTSTART:20250309T070000
END:DAYLIGHT
BEGIN:STANDARD
TZOFFSETFROM:-0400
TZOFFSETTO:-0500
TZNAME:EST
DTSTART:20251102T060000
END:STANDARD
END:VTIMEZONE
BEGIN:VEVENT
DTSTART;TZID=America/New_York:20240605T180000
DTEND;TZID=America/New_York:20240605T193000
DTSTAMP:20260424T234956
CREATED:20240411T193354Z
LAST-MODIFIED:20240418T180744Z
UID:10606-1717610400-1717615800@cornerbookstorenyc.com
SUMMARY:Amanda Bellows launches her latest book The Explorers
DESCRIPTION:The archetype of the American explorer\, a rugged white man\, has dominated our popular culture since the late eighteenth century\, when Daniel Boone’s autobiography captivated readers with tales of treacherous journeys. But our commonly held ideas about American exploration do not tell the whole story—far from it. \nThe Explorers rediscovers a diverse group of Americans who went to the western frontier and beyond\, traversing the farthest reaches of the globe and even penetrating outer space in their endeavor to find the unknown. Many escaped from lives circumscribed by racism\, sexism\, poverty\, and discrimination as they took on great risk in unfamiliar territory. \nAcross two centuries and many thousands of miles of terrain\, Amanda Bellows offers an ode to our country’s most intrepid adventurers—and reveals the history of America in the process.
URL:https://cornerbookstorenyc.com/event/amanda-bellows-launches-her-latest-book-the-explorers/
CATEGORIES:Receptions
END:VEVENT
BEGIN:VEVENT
DTSTART;TZID=America/New_York:20240611T180000
DTEND;TZID=America/New_York:20240611T193000
DTSTAMP:20260424T234956
CREATED:20240429T194849Z
LAST-MODIFIED:20240529T145025Z
UID:10670-1718128800-1718134200@cornerbookstorenyc.com
SUMMARY:Elyssa Friedland launches her latest novel  Jackpot Summer
DESCRIPTION:The four Jacobson children were raised to respect the value of a dollar. Their mother reused tea bags and refused to pay retail; their father taught them to budget before he taught them to ride a bike. And yet\, now that they’re adults\, their financial lives are in disarray. \nThe siblings reunite when their newly widowed father puts their Jersey Shore beach house on the market. Packing up childhood memories isn’t easy\, especially when there’s other drama brewing. Matthew is miserable at his corporate law job and wishes he had more time with his son; Laura’s marriage is imploding in spectacular fashion; Sophie’s art career is stalled while her boyfriend’s is on the rise; and Noah’s total failure to launch has him doing tech repair for pennies. \nWhen Noah sees an ad for a Powerball drawing\, he and his sisters go in on tickets while their brother Matthew passes.  All hell breaks loose when one of the tickets is a winner and three of the four Jacobsons become overnight millionaires. Without their mother’s guidance\, and with their father busy playing pickleball in a Florida retirement village\, the once close-knit siblings search for comfort in shiny new toys instead of each other. \nIt’s not long before the Jacobsons start to realize that they’ll never feel rich unless they can pull their family back together.
URL:https://cornerbookstorenyc.com/event/elyssa-friedland-launches-her-latest-novel-jackpot-summer/
CATEGORIES:Receptions
END:VEVENT
END:VCALENDAR