BEGIN:VCALENDAR
VERSION:2.0
PRODID:-//Corner Bookstore - ECPv6.15.20//NONSGML v1.0//EN
CALSCALE:GREGORIAN
METHOD:PUBLISH
X-ORIGINAL-URL:https://cornerbookstorenyc.com
X-WR-CALDESC:Events for Corner Bookstore
REFRESH-INTERVAL;VALUE=DURATION:PT1H
X-Robots-Tag:noindex
X-PUBLISHED-TTL:PT1H
BEGIN:VTIMEZONE
TZID:America/New_York
BEGIN:DAYLIGHT
TZOFFSETFROM:-0500
TZOFFSETTO:-0400
TZNAME:EDT
DTSTART:20250309T070000
END:DAYLIGHT
BEGIN:STANDARD
TZOFFSETFROM:-0400
TZOFFSETTO:-0500
TZNAME:EST
DTSTART:20251102T060000
END:STANDARD
BEGIN:DAYLIGHT
TZOFFSETFROM:-0500
TZOFFSETTO:-0400
TZNAME:EDT
DTSTART:20260308T070000
END:DAYLIGHT
BEGIN:STANDARD
TZOFFSETFROM:-0400
TZOFFSETTO:-0500
TZNAME:EST
DTSTART:20261101T060000
END:STANDARD
BEGIN:DAYLIGHT
TZOFFSETFROM:-0500
TZOFFSETTO:-0400
TZNAME:EDT
DTSTART:20270314T070000
END:DAYLIGHT
BEGIN:STANDARD
TZOFFSETFROM:-0400
TZOFFSETTO:-0500
TZNAME:EST
DTSTART:20271107T060000
END:STANDARD
END:VTIMEZONE
BEGIN:VEVENT
DTSTART;TZID=America/New_York:20260428T180000
DTEND;TZID=America/New_York:20260428T193000
DTSTAMP:20260423T134814
CREATED:20260116T160445Z
LAST-MODIFIED:20260408T180321Z
UID:11768-1777399200-1777404600@cornerbookstorenyc.com
SUMMARY:Priya Parmar in conversation about her new novel The Original
DESCRIPTION:When young Katharine Hepburn loses her beloved brother\, she makes two decisions: She will become famous\, and she will never let anyone hurt her again. Leaving home at twenty-one to pursue a career on Broadway\, Kate is talent-spotted\, screen-tested\, and lured to Los Angeles\, accompanied by her lover\, Laura. Hollywood in the early 1930s is a town full of secrets. Everyone comes with a story. When Kate arrives in California to launch her film career\, she leaves behind her East Coast marriage and icy patrician family to live and love on her own terms. Soon she is scooped into the studio system and launched as a star—but stars must play by the rules and Kate\, brilliant\, bisexual\, and strong-willed\, refuses to conform. \nSurrounded by a legendary circle of intimates\, including the powerful David and Irene Selznick\, charming and romantically conflicted actor Cary Grant\, ambitious director John Ford\, and millionaire tycoon Howard Hughes\, Kate navigates a web of sex\, rivalry\, and betrayal. As Kate’s career ascends\, she faces an agonizing choice: be the star everyone wants her to be\, or risk everything to become the woman she always was. \n  \nPriya will be in conversation with author Christina Baker-Kline
URL:https://cornerbookstorenyc.com/event/priya-parmar-in-conversation-about-her-new-novel-the-original/
CATEGORIES:Readings
END:VEVENT
END:VCALENDAR