BEGIN:VCALENDAR
VERSION:2.0
PRODID:-//Corner Bookstore - ECPv6.15.20//NONSGML v1.0//EN
CALSCALE:GREGORIAN
METHOD:PUBLISH
X-WR-CALNAME:Corner Bookstore
X-ORIGINAL-URL:https://cornerbookstorenyc.com
X-WR-CALDESC:Events for Corner Bookstore
REFRESH-INTERVAL;VALUE=DURATION:PT1H
X-Robots-Tag:noindex
X-PUBLISHED-TTL:PT1H
BEGIN:VTIMEZONE
TZID:America/New_York
BEGIN:DAYLIGHT
TZOFFSETFROM:-0500
TZOFFSETTO:-0400
TZNAME:EDT
DTSTART:20250309T070000
END:DAYLIGHT
BEGIN:STANDARD
TZOFFSETFROM:-0400
TZOFFSETTO:-0500
TZNAME:EST
DTSTART:20251102T060000
END:STANDARD
BEGIN:DAYLIGHT
TZOFFSETFROM:-0500
TZOFFSETTO:-0400
TZNAME:EDT
DTSTART:20260308T070000
END:DAYLIGHT
BEGIN:STANDARD
TZOFFSETFROM:-0400
TZOFFSETTO:-0500
TZNAME:EST
DTSTART:20261101T060000
END:STANDARD
BEGIN:DAYLIGHT
TZOFFSETFROM:-0500
TZOFFSETTO:-0400
TZNAME:EDT
DTSTART:20270314T070000
END:DAYLIGHT
BEGIN:STANDARD
TZOFFSETFROM:-0400
TZOFFSETTO:-0500
TZNAME:EST
DTSTART:20271107T060000
END:STANDARD
END:VTIMEZONE
BEGIN:VEVENT
DTSTART;TZID=America/New_York:20260310T180000
DTEND;TZID=America/New_York:20260310T193000
DTSTAMP:20260423T153422
CREATED:20260102T181129Z
LAST-MODIFIED:20260102T181242Z
UID:11749-1773165600-1773171000@cornerbookstorenyc.com
SUMMARY:Linda Stasi reads from her latest The Descendant
DESCRIPTION:This based-on-real-events novel tells the story of the family that possibly inspired The Godfather—except this story doesn’t begin with a small robbery in New York. Instead\, The Descendant begins with a big\, blooming love in the tiny town of Lucca Sicula\, Sicily. Told through the lives of the strong Italian women who fought against impossible odds\, this historically inspired narrative introduces a whole cast of fascinating characters. \nMariano Barbera was a strong\, powerfully built man who saw tiny fourteen-year-old Maria Ragusa at her family’s store and was struck dumb. He had to have her\, and she wanted him just as badly. Their life together leads the couple and their children from earthquake-ravaged Sicily to bondage in the mines of Colorado\, to cattle ranching in Pueblo\, to Mafia life on the mean streets of Red Hook\, Brooklyn. \nThis sweeping family saga centers around the Barberas’ ten children from their three cowboy gangster sons\, Peter\, Joe\, and Austin to their seven wildly different cowgirl daughters. First there’s little Flo—born on the night of the wolves and whose own alpha wolf never left her side—as she navigates life alongside her best pal and younger sister\, Clara. Then there’s Flo’s many older sisters: Callie\, who loved and lost; Angie\, who loved and left; gorgeous Laura\, who loved the wrong man; grouchy but brilliant Helen\, who loved many times; and tough-as-nails wrangler Michelina\, who loved a woman more than the husband she was forced to marry.
URL:https://cornerbookstorenyc.com/event/11749/
CATEGORIES:Readings
END:VEVENT
END:VCALENDAR