BEGIN:VCALENDAR
VERSION:2.0
PRODID:-//Corner Bookstore - ECPv6.15.20//NONSGML v1.0//EN
CALSCALE:GREGORIAN
METHOD:PUBLISH
X-ORIGINAL-URL:https://cornerbookstorenyc.com
X-WR-CALDESC:Events for Corner Bookstore
REFRESH-INTERVAL;VALUE=DURATION:PT1H
X-Robots-Tag:noindex
X-PUBLISHED-TTL:PT1H
BEGIN:VTIMEZONE
TZID:America/New_York
BEGIN:DAYLIGHT
TZOFFSETFROM:-0500
TZOFFSETTO:-0400
TZNAME:EDT
DTSTART:20240310T070000
END:DAYLIGHT
BEGIN:STANDARD
TZOFFSETFROM:-0400
TZOFFSETTO:-0500
TZNAME:EST
DTSTART:20241103T060000
END:STANDARD
BEGIN:DAYLIGHT
TZOFFSETFROM:-0500
TZOFFSETTO:-0400
TZNAME:EDT
DTSTART:20250309T070000
END:DAYLIGHT
BEGIN:STANDARD
TZOFFSETFROM:-0400
TZOFFSETTO:-0500
TZNAME:EST
DTSTART:20251102T060000
END:STANDARD
BEGIN:DAYLIGHT
TZOFFSETFROM:-0500
TZOFFSETTO:-0400
TZNAME:EDT
DTSTART:20260308T070000
END:DAYLIGHT
BEGIN:STANDARD
TZOFFSETFROM:-0400
TZOFFSETTO:-0500
TZNAME:EST
DTSTART:20261101T060000
END:STANDARD
END:VTIMEZONE
BEGIN:VEVENT
DTSTART;TZID=America/New_York:20251118T180000
DTEND;TZID=America/New_York:20251118T193000
DTSTAMP:20260423T211216
CREATED:20251104T154217Z
LAST-MODIFIED:20251104T154217Z
UID:11625-1763488800-1763494200@cornerbookstorenyc.com
SUMMARY:Devin Kelly in conversation about his debut Pilgrims
DESCRIPTION:A monk leaves the monastery to search for his teenage brother\, who has run away from home in the middle of a high school cross-country race. Alternating between each brother’s perspective\, Pilgrims follows its protagonists as they encounter Appalachian Trail thru-hikers\, greyhound rescuers\, eccentric communists\, and tiny cemetery-keepers. A rumination on abandonment and the intimacies we’ve lost to a world obsessed with progress and material success\, Pilgrims announces the arrival of a striking new voice in American fiction. \nDevin Kelly is a high school teacher in New York City. He writes the newsletter Ordinary Plots\, and his work has appeared in The Guardian\, Longreads\, LitHub\, The Year’s Best Sportswriting\, and more. Pilgrims is his first novel. \n\nDevin Kelly will be in conversation with poet Maya Popa.
URL:https://cornerbookstorenyc.com/event/devin-kelly-in-conversation-about-his-debut-pilgrims/
CATEGORIES:Readings
END:VEVENT
END:VCALENDAR