BEGIN:VCALENDAR
VERSION:2.0
PRODID:-//Corner Bookstore - ECPv6.15.20//NONSGML v1.0//EN
CALSCALE:GREGORIAN
METHOD:PUBLISH
X-ORIGINAL-URL:https://cornerbookstorenyc.com
X-WR-CALDESC:Events for Corner Bookstore
REFRESH-INTERVAL;VALUE=DURATION:PT1H
X-Robots-Tag:noindex
X-PUBLISHED-TTL:PT1H
BEGIN:VTIMEZONE
TZID:America/New_York
BEGIN:DAYLIGHT
TZOFFSETFROM:-0500
TZOFFSETTO:-0400
TZNAME:EDT
DTSTART:20240310T070000
END:DAYLIGHT
BEGIN:STANDARD
TZOFFSETFROM:-0400
TZOFFSETTO:-0500
TZNAME:EST
DTSTART:20241103T060000
END:STANDARD
BEGIN:DAYLIGHT
TZOFFSETFROM:-0500
TZOFFSETTO:-0400
TZNAME:EDT
DTSTART:20250309T070000
END:DAYLIGHT
BEGIN:STANDARD
TZOFFSETFROM:-0400
TZOFFSETTO:-0500
TZNAME:EST
DTSTART:20251102T060000
END:STANDARD
BEGIN:DAYLIGHT
TZOFFSETFROM:-0500
TZOFFSETTO:-0400
TZNAME:EDT
DTSTART:20260308T070000
END:DAYLIGHT
BEGIN:STANDARD
TZOFFSETFROM:-0400
TZOFFSETTO:-0500
TZNAME:EST
DTSTART:20261101T060000
END:STANDARD
END:VTIMEZONE
BEGIN:VEVENT
DTSTART;TZID=America/New_York:20251030T180000
DTEND;TZID=America/New_York:20251030T193000
DTSTAMP:20260423T211902
CREATED:20250826T192236Z
LAST-MODIFIED:20251010T174914Z
UID:11541-1761847200-1761852600@cornerbookstorenyc.com
SUMMARY:Susan Cheever in conversation with Ben Cheever about her latest When All the Men Wore Hats
DESCRIPTION:The Stories of John Cheever\, published in 1978\, brought together some of the finest short fiction ever written. The collection was honored with the Pulitzer Prize and the National Book Award\, and it would go on to sell millions of copies and to define the American short story and shape generations of writers. Cheever’s chronicles of modern life both emerged from a distinctly American culture and also created it—inspiring everything from Mad Men to a Raymond Carver story\, from rock songs to a Seinfeld episode.\nGrowing up\, Susan Cheever\, John Cheever’s eldest child and only daughter\, read what he read\, heard what he heard\, bantered and gossiped with him and her brothers and mother at the dinner table\, and later watched her father type on the cheap yellow paper he favored. A daughter much like Susan appears in many of Cheever’s stories and a family much like theirs is at the center of his writing. \nIn When All the Men Wore Hats\, Susan Cheever looks back on her father’s work and seeks to understand the connections between art and life. How did a bit of local gossip\, a slice of Greek myth\, and a new translation of Madame Bovary somehow become a brilliant gem like “The Country Husband” or “The Swimmer”? In her 1984 book Home Before Dark\, published two years after her father’s death\, Cheever wrote movingly about her father and the secrets he kept\, but here\, years later\, she tells the story of the remarkable stories themselves\, six of which appear in full in the book’s appendix. \n  \nSusan Cheever will be in conversation with her brother Ben Cheever author of The Plagiarist & Selling Ben Cheever.
URL:https://cornerbookstorenyc.com/event/susan-cheever-reads-from-her-latest-when-all-the-men-wore-hats/
CATEGORIES:Readings
END:VEVENT
END:VCALENDAR