BEGIN:VCALENDAR
VERSION:2.0
PRODID:-//Corner Bookstore - ECPv6.15.20//NONSGML v1.0//EN
CALSCALE:GREGORIAN
METHOD:PUBLISH
X-ORIGINAL-URL:https://cornerbookstorenyc.com
X-WR-CALDESC:Events for Corner Bookstore
REFRESH-INTERVAL;VALUE=DURATION:PT1H
X-Robots-Tag:noindex
X-PUBLISHED-TTL:PT1H
BEGIN:VTIMEZONE
TZID:America/New_York
BEGIN:DAYLIGHT
TZOFFSETFROM:-0500
TZOFFSETTO:-0400
TZNAME:EDT
DTSTART:20240310T070000
END:DAYLIGHT
BEGIN:STANDARD
TZOFFSETFROM:-0400
TZOFFSETTO:-0500
TZNAME:EST
DTSTART:20241103T060000
END:STANDARD
BEGIN:DAYLIGHT
TZOFFSETFROM:-0500
TZOFFSETTO:-0400
TZNAME:EDT
DTSTART:20250309T070000
END:DAYLIGHT
BEGIN:STANDARD
TZOFFSETFROM:-0400
TZOFFSETTO:-0500
TZNAME:EST
DTSTART:20251102T060000
END:STANDARD
BEGIN:DAYLIGHT
TZOFFSETFROM:-0500
TZOFFSETTO:-0400
TZNAME:EDT
DTSTART:20260308T070000
END:DAYLIGHT
BEGIN:STANDARD
TZOFFSETFROM:-0400
TZOFFSETTO:-0500
TZNAME:EST
DTSTART:20261101T060000
END:STANDARD
END:VTIMEZONE
BEGIN:VEVENT
DTSTART;TZID=America/New_York:20251016T180000
DTEND;TZID=America/New_York:20251016T193000
DTSTAMP:20260423T223933
CREATED:20250910T192647Z
LAST-MODIFIED:20250910T192647Z
UID:11568-1760637600-1760643000@cornerbookstorenyc.com
SUMMARY:Alyson Richman in conversation about her new book The Missing Pages
DESCRIPTION:Harry Widener boards the Titanic holding tight to a priceless book–and his last known words are that he must return to his cabin for his treasure. Neither the young man nor the book will ever be seen again. In his honor\, his mother builds the Harry Widener Memorial Library at Harvard to memorialize her son and house his extensive book collection.\n​Decades later\, Violet Hutchins\, a Harvard sophomore recovering from her own great loss\, is working as a page at the Widener Library. When strange things begin happening at the library\, Violet wonders if Harry Widener’s ghost is trying to communicate the missing pieces of his story from beyond the grave. \n  \nAlyson Richman will be in conversation with author Lauren Belfer.
URL:https://cornerbookstorenyc.com/event/alyson-richman-in-conversation-about-her-new-book-the-missing-pages/
CATEGORIES:Readings
END:VEVENT
END:VCALENDAR