BEGIN:VCALENDAR
VERSION:2.0
PRODID:-//Corner Bookstore - ECPv6.15.20//NONSGML v1.0//EN
CALSCALE:GREGORIAN
METHOD:PUBLISH
X-ORIGINAL-URL:https://cornerbookstorenyc.com
X-WR-CALDESC:Events for Corner Bookstore
REFRESH-INTERVAL;VALUE=DURATION:PT1H
X-Robots-Tag:noindex
X-PUBLISHED-TTL:PT1H
BEGIN:VTIMEZONE
TZID:America/New_York
BEGIN:DAYLIGHT
TZOFFSETFROM:-0500
TZOFFSETTO:-0400
TZNAME:EDT
DTSTART:20240310T070000
END:DAYLIGHT
BEGIN:STANDARD
TZOFFSETFROM:-0400
TZOFFSETTO:-0500
TZNAME:EST
DTSTART:20241103T060000
END:STANDARD
BEGIN:DAYLIGHT
TZOFFSETFROM:-0500
TZOFFSETTO:-0400
TZNAME:EDT
DTSTART:20250309T070000
END:DAYLIGHT
BEGIN:STANDARD
TZOFFSETFROM:-0400
TZOFFSETTO:-0500
TZNAME:EST
DTSTART:20251102T060000
END:STANDARD
BEGIN:DAYLIGHT
TZOFFSETFROM:-0500
TZOFFSETTO:-0400
TZNAME:EDT
DTSTART:20260308T070000
END:DAYLIGHT
BEGIN:STANDARD
TZOFFSETFROM:-0400
TZOFFSETTO:-0500
TZNAME:EST
DTSTART:20261101T060000
END:STANDARD
END:VTIMEZONE
BEGIN:VEVENT
DTSTART;TZID=America/New_York:20250812T180000
DTEND;TZID=America/New_York:20250812T193000
DTSTAMP:20260424T015227
CREATED:20250522T185134Z
LAST-MODIFIED:20250522T185134Z
UID:11466-1755021600-1755027000@cornerbookstorenyc.com
SUMMARY:Alexia LaFata in conversation about her new book She Used To Be Nice
DESCRIPTION:One night in college changed the course of Avery’s entire life. Her rapist took everything from her—including the trust of her friends and long-term boyfriend\, who were convinced she cheated. A year later\, she still can’t bear to tell the truth about what happened and risk her friendship with Morgan\, the only friend she has left. \nInstead\, Avery finds her way under a man or into a bottle just to convince herself that she has power over her feelings and her autonomy—that her body still belongs to her. That is\, until she meets Pete\, a man so kind and good that he awakens a part of Avery that makes her want to try something new. \nBut somehow Avery’s rapist has resurfaced in her life as the best man in Morgan’s wedding. And as maid of honor\, there’s no way Avery can avoid him. His mere presence grates at Avery’s already raw emotional state\, and she begins to drive away the final few who care about her—including Pete. \nAs the wedding nears\, Avery must decide whether to finally let her walls down and tell her truth or risk spiraling toward a darkness she may never be able to recover from. \nAlexia will be in conversation with Ella Dawson\, author of But How Are You\, Really
URL:https://cornerbookstorenyc.com/event/alexia-lafata-in-conversation-about-her-new-book-she-used-to-be-nice/
CATEGORIES:Readings
END:VEVENT
END:VCALENDAR