BEGIN:VCALENDAR
VERSION:2.0
PRODID:-//Corner Bookstore - ECPv6.15.20//NONSGML v1.0//EN
CALSCALE:GREGORIAN
METHOD:PUBLISH
X-WR-CALNAME:Corner Bookstore
X-ORIGINAL-URL:https://cornerbookstorenyc.com
X-WR-CALDESC:Events for Corner Bookstore
REFRESH-INTERVAL;VALUE=DURATION:PT1H
X-Robots-Tag:noindex
X-PUBLISHED-TTL:PT1H
BEGIN:VTIMEZONE
TZID:America/New_York
BEGIN:DAYLIGHT
TZOFFSETFROM:-0500
TZOFFSETTO:-0400
TZNAME:EDT
DTSTART:20240310T070000
END:DAYLIGHT
BEGIN:STANDARD
TZOFFSETFROM:-0400
TZOFFSETTO:-0500
TZNAME:EST
DTSTART:20241103T060000
END:STANDARD
BEGIN:DAYLIGHT
TZOFFSETFROM:-0500
TZOFFSETTO:-0400
TZNAME:EDT
DTSTART:20250309T070000
END:DAYLIGHT
BEGIN:STANDARD
TZOFFSETFROM:-0400
TZOFFSETTO:-0500
TZNAME:EST
DTSTART:20251102T060000
END:STANDARD
BEGIN:DAYLIGHT
TZOFFSETFROM:-0500
TZOFFSETTO:-0400
TZNAME:EDT
DTSTART:20260308T070000
END:DAYLIGHT
BEGIN:STANDARD
TZOFFSETFROM:-0400
TZOFFSETTO:-0500
TZNAME:EST
DTSTART:20261101T060000
END:STANDARD
END:VTIMEZONE
BEGIN:VEVENT
DTSTART;TZID=America/New_York:20250611T180000
DTEND;TZID=America/New_York:20250611T193000
DTSTAMP:20260424T043300
CREATED:20250408T181828Z
LAST-MODIFIED:20250408T181828Z
UID:11424-1749664800-1749670200@cornerbookstorenyc.com
SUMMARY:Jonathan Gluck launches his latest An Exercise in Uncertainty
DESCRIPTION:At age thirty-eight\, Jonathan Gluck\, a new father with a promising journalism career\, was shocked to learn he had multiple myeloma\, a rare\, incurable blood cancer. He was told he had eighteen months to live. \nThat was more than twenty years ago. \nGluck isn’t just something of a medical miracle. He’s also part of a growing population. Thanks to revolutionary medical advances\, many cancers and other serious illnesses are no longer death sentences but chronic diseases people can often live with for years. While doctors continue to look for “magic bullet” cures\, they can now extend patients’ lives by slowing the progression of their diseases one treatment at a time. The result is a strange\, new no-man’s-land between being sick and being well where Gluck and millions of others reside. \nIn An Exercise in Uncertainty\, Gluck maps this previously uncharted territory. Among the many vexing side effects of chronic illness he explores is uncertainty—never knowing from one day to the next how one’s illness might change them physically\, emotionally\, spiritually. When you have an incurable disease\, how do you cope with knowing that even when you’re in remission\, it will eventually return? How do you live with the anxiety\, the fear\, the near-constant awareness of your mortality? For Gluck\, one surprising answer is fly-fishing. If you’re looking for peace in your own sea of uncertainty\, it might be something else. \nAs Gluck will be the first to say\, cancer has absolutely nothing good to offer\, but almost dying has taught him valuable lessons about how to live.
URL:https://cornerbookstorenyc.com/event/jonathan-gluck-launches-his-latest-an-exercise-in-uncertainty/
CATEGORIES:Readings
END:VEVENT
END:VCALENDAR