BEGIN:VCALENDAR
VERSION:2.0
PRODID:-//Corner Bookstore - ECPv6.15.20//NONSGML v1.0//EN
CALSCALE:GREGORIAN
METHOD:PUBLISH
X-ORIGINAL-URL:https://cornerbookstorenyc.com
X-WR-CALDESC:Events for Corner Bookstore
REFRESH-INTERVAL;VALUE=DURATION:PT1H
X-Robots-Tag:noindex
X-PUBLISHED-TTL:PT1H
BEGIN:VTIMEZONE
TZID:America/New_York
BEGIN:DAYLIGHT
TZOFFSETFROM:-0500
TZOFFSETTO:-0400
TZNAME:EDT
DTSTART:20240310T070000
END:DAYLIGHT
BEGIN:STANDARD
TZOFFSETFROM:-0400
TZOFFSETTO:-0500
TZNAME:EST
DTSTART:20241103T060000
END:STANDARD
BEGIN:DAYLIGHT
TZOFFSETFROM:-0500
TZOFFSETTO:-0400
TZNAME:EDT
DTSTART:20250309T070000
END:DAYLIGHT
BEGIN:STANDARD
TZOFFSETFROM:-0400
TZOFFSETTO:-0500
TZNAME:EST
DTSTART:20251102T060000
END:STANDARD
BEGIN:DAYLIGHT
TZOFFSETFROM:-0500
TZOFFSETTO:-0400
TZNAME:EDT
DTSTART:20260308T070000
END:DAYLIGHT
BEGIN:STANDARD
TZOFFSETFROM:-0400
TZOFFSETTO:-0500
TZNAME:EST
DTSTART:20261101T060000
END:STANDARD
END:VTIMEZONE
BEGIN:VEVENT
DTSTART;TZID=America/New_York:20250610T180000
DTEND;TZID=America/New_York:20250610T193000
DTSTAMP:20260424T043535
CREATED:20250408T181504Z
LAST-MODIFIED:20250408T181504Z
UID:11421-1749578400-1749583800@cornerbookstorenyc.com
SUMMARY:Wally Lamb launches his latest book The River is Waiting
DESCRIPTION:Corby Ledbetter is struggling. New fatherhood\, the loss of his job\, and a growing secret addiction have thrown his marriage to his beloved Emily into a tailspin. And that’s before he causes the tragedy that tears the family apart. Sentenced to prison\, Corby struggles to survive life on the inside\, where he bears witness to frightful acts of brutality but also experiences small acts of kindness and elemental kinship with a prison librarian who sees his light and some of his fellow offenders\, including a tender-hearted cellmate and a troubled teen desperate for a role model. Buoyed by them and by his mother’s enduring faith in him\, Corby begins to transcend the boundaries of his confinement\, sustained by his hope that mercy and reconciliation might still be possible. Can his crimes ever be forgiven by those he loves?
URL:https://cornerbookstorenyc.com/event/wally-lamb-launches-his-latest-book-the-river-is-waiting/
CATEGORIES:Readings
END:VEVENT
END:VCALENDAR