BEGIN:VCALENDAR
VERSION:2.0
PRODID:-//Corner Bookstore - ECPv6.15.20//NONSGML v1.0//EN
CALSCALE:GREGORIAN
METHOD:PUBLISH
X-WR-CALNAME:Corner Bookstore
X-ORIGINAL-URL:https://cornerbookstorenyc.com
X-WR-CALDESC:Events for Corner Bookstore
REFRESH-INTERVAL;VALUE=DURATION:PT1H
X-Robots-Tag:noindex
X-PUBLISHED-TTL:PT1H
BEGIN:VTIMEZONE
TZID:America/New_York
BEGIN:DAYLIGHT
TZOFFSETFROM:-0500
TZOFFSETTO:-0400
TZNAME:EDT
DTSTART:20240310T070000
END:DAYLIGHT
BEGIN:STANDARD
TZOFFSETFROM:-0400
TZOFFSETTO:-0500
TZNAME:EST
DTSTART:20241103T060000
END:STANDARD
BEGIN:DAYLIGHT
TZOFFSETFROM:-0500
TZOFFSETTO:-0400
TZNAME:EDT
DTSTART:20250309T070000
END:DAYLIGHT
BEGIN:STANDARD
TZOFFSETFROM:-0400
TZOFFSETTO:-0500
TZNAME:EST
DTSTART:20251102T060000
END:STANDARD
BEGIN:DAYLIGHT
TZOFFSETFROM:-0500
TZOFFSETTO:-0400
TZNAME:EDT
DTSTART:20260308T070000
END:DAYLIGHT
BEGIN:STANDARD
TZOFFSETFROM:-0400
TZOFFSETTO:-0500
TZNAME:EST
DTSTART:20261101T060000
END:STANDARD
END:VTIMEZONE
BEGIN:VEVENT
DTSTART;TZID=America/New_York:20250327T180000
DTEND;TZID=America/New_York:20250327T193000
DTSTAMP:20260424T092621
CREATED:20250205T171635Z
LAST-MODIFIED:20250314T153853Z
UID:11351-1743098400-1743103800@cornerbookstorenyc.com
SUMMARY:Angela Denker in conversation about her new book Disciples of White Jesus
DESCRIPTION:Disciples of White Jesus is a comprehensive look at the rise in radicalization among young white men in America\, especially focused on the role of right-wing Christianity in the increase of religious-based hatred and violence. Denker goes deep into the online rabbit holes of right-wing Christian influencers and conservative Christian ideology to understand how the preaching of “traditional gender roles” and “submission of women” has led to anger\, outrage\, loneliness\, depression\, and limiting identities for young white Christian men across America. \nCasting her journalist’s eye across the US\, Denker retraces the steps of a racist South Carolina mass shooter and a Phoenix skinhead turned Evangelical pastor\, interviews middle school teachers and coaches in the Midwest\, and introduces us to young men across the country who will both confirm and confound our ideas about American boyhood–stories about boys and men who are forging new identities grounded in kindness\, grace\, respect\, and even joy. A must-read for parents\, grandparents\, educators\, coaches\, faith leaders\, researchers\, and all who care about the state of American families\, boys themselves\, and the safety of American society at large. \n\nAngela Denker will be in conversation with Anne Nelson.
URL:https://cornerbookstorenyc.com/event/angela-denker-reads-from-her-new-book-disciples-of-white-jesus/
CATEGORIES:Readings
END:VEVENT
END:VCALENDAR