BEGIN:VCALENDAR
VERSION:2.0
PRODID:-//Corner Bookstore - ECPv6.15.20//NONSGML v1.0//EN
CALSCALE:GREGORIAN
METHOD:PUBLISH
X-ORIGINAL-URL:https://cornerbookstorenyc.com
X-WR-CALDESC:Events for Corner Bookstore
REFRESH-INTERVAL;VALUE=DURATION:PT1H
X-Robots-Tag:noindex
X-PUBLISHED-TTL:PT1H
BEGIN:VTIMEZONE
TZID:America/New_York
BEGIN:DAYLIGHT
TZOFFSETFROM:-0500
TZOFFSETTO:-0400
TZNAME:EDT
DTSTART:20240310T070000
END:DAYLIGHT
BEGIN:STANDARD
TZOFFSETFROM:-0400
TZOFFSETTO:-0500
TZNAME:EST
DTSTART:20241103T060000
END:STANDARD
BEGIN:DAYLIGHT
TZOFFSETFROM:-0500
TZOFFSETTO:-0400
TZNAME:EDT
DTSTART:20250309T070000
END:DAYLIGHT
BEGIN:STANDARD
TZOFFSETFROM:-0400
TZOFFSETTO:-0500
TZNAME:EST
DTSTART:20251102T060000
END:STANDARD
BEGIN:DAYLIGHT
TZOFFSETFROM:-0500
TZOFFSETTO:-0400
TZNAME:EDT
DTSTART:20260308T070000
END:DAYLIGHT
BEGIN:STANDARD
TZOFFSETFROM:-0400
TZOFFSETTO:-0500
TZNAME:EST
DTSTART:20261101T060000
END:STANDARD
END:VTIMEZONE
BEGIN:VEVENT
DTSTART;TZID=America/New_York:20250320T180000
DTEND;TZID=America/New_York:20250320T193000
DTSTAMP:20260424T092637
CREATED:20250103T162542Z
LAST-MODIFIED:20250106T192626Z
UID:11327-1742493600-1742499000@cornerbookstorenyc.com
SUMMARY:Joshua Hammer discusses his latest The Mesopotamian Riddle
DESCRIPTION:It was one of history’s great vanishing acts. \nAround 3\,400 BCE—as humans were gathering in complex urban settlements—a scribe in the mud-walled city-state of Uruk picked up a reed stylus to press tiny symbols into clay. For three millennia\, wedge shape cuneiform script would record the military conquests\, scientific discoveries\, and epic literature of the great Mesopotamian kingdoms of Sumer\, Assyria\, and Babylon and of Persia’s mighty Achaemenid Empire\, along with precious minutiae about everyday life in the cradle of civilization. And then…the meaning of the characters was lost. \nLondon\, 1857. In an era obsessed with human progress\, mysterious palaces emerging from the desert sands had captured the Victorian public’s imagination. Yet Europe’s best philologists struggled to decipher the bizarre inscriptions excavators were digging up. \nEnter a swashbuckling archaeologist\, a suave British military officer turned diplomat\, and a cloistered Irish rector\, all vying for glory in a race to decipher this script that would enable them to peek farther back into human history than ever before. \nFrom the ruins of Persepolis to lawless outposts of the crumbling Ottoman Empire\, The Mesopotamian Riddle whisks you on a wild adventure through the golden age of archaeology in an epic quest to understand our past.
URL:https://cornerbookstorenyc.com/event/josh-hammer-discusses-his-latest-the-mesopotamian-riddle/
CATEGORIES:Readings
END:VEVENT
END:VCALENDAR