BEGIN:VCALENDAR
VERSION:2.0
PRODID:-//Corner Bookstore - ECPv6.15.20//NONSGML v1.0//EN
CALSCALE:GREGORIAN
METHOD:PUBLISH
X-WR-CALNAME:Corner Bookstore
X-ORIGINAL-URL:https://cornerbookstorenyc.com
X-WR-CALDESC:Events for Corner Bookstore
REFRESH-INTERVAL;VALUE=DURATION:PT1H
X-Robots-Tag:noindex
X-PUBLISHED-TTL:PT1H
BEGIN:VTIMEZONE
TZID:America/New_York
BEGIN:DAYLIGHT
TZOFFSETFROM:-0500
TZOFFSETTO:-0400
TZNAME:EDT
DTSTART:20240310T070000
END:DAYLIGHT
BEGIN:STANDARD
TZOFFSETFROM:-0400
TZOFFSETTO:-0500
TZNAME:EST
DTSTART:20241103T060000
END:STANDARD
BEGIN:DAYLIGHT
TZOFFSETFROM:-0500
TZOFFSETTO:-0400
TZNAME:EDT
DTSTART:20250309T070000
END:DAYLIGHT
BEGIN:STANDARD
TZOFFSETFROM:-0400
TZOFFSETTO:-0500
TZNAME:EST
DTSTART:20251102T060000
END:STANDARD
BEGIN:DAYLIGHT
TZOFFSETFROM:-0500
TZOFFSETTO:-0400
TZNAME:EDT
DTSTART:20260308T070000
END:DAYLIGHT
BEGIN:STANDARD
TZOFFSETFROM:-0400
TZOFFSETTO:-0500
TZNAME:EST
DTSTART:20261101T060000
END:STANDARD
END:VTIMEZONE
BEGIN:VEVENT
DTSTART;TZID=America/New_York:20250225T180000
DTEND;TZID=America/New_York:20250225T193000
DTSTAMP:20260424T092507
CREATED:20250103T161717Z
LAST-MODIFIED:20250103T161717Z
UID:11321-1740506400-1740511800@cornerbookstorenyc.com
SUMMARY:Emma Otheguy launches her latest book Cousins in the Time of Magic
DESCRIPTION:History is alive with magic. That’s what zany Tía Xia is always telling cousins Jorge\, Camila\, and Siggy. Daredevil Jorge couldn’t be more different than his cousins: Camila is a dreamer who adores animals and Siggy is an aspiring influencer who has an exclusive party to attend. And their aunt has many secrets\, including a mysterious diamond-encrusted sword that Jorge definitely wasn’t supposed to see. \nBut when the three stumble upon a time portal in their aunt’s yard\, they are transported back to 1862\, a past filled with wonders—and dangers. To return to the present\, they must race to deliver the sword to General Ignacio Zaragoza in time for the historic Battle of Puebla in Mexico: the foundation of the holiday Cinco de Mayo. \nAs their journey to Mexico takes them through the Civil War–era United States\, the cousins see just how much US history has been shaped by Latin communities. They must find the power within themselves to make sure things happen as they’re supposed to\, without altering the past.
URL:https://cornerbookstorenyc.com/event/emma-otheguy-launches-her-latest-book-cousins-in-the-time-of-magic/
CATEGORIES:Readings
END:VEVENT
END:VCALENDAR