BEGIN:VCALENDAR
VERSION:2.0
PRODID:-//Corner Bookstore - ECPv6.15.20//NONSGML v1.0//EN
CALSCALE:GREGORIAN
METHOD:PUBLISH
X-WR-CALNAME:Corner Bookstore
X-ORIGINAL-URL:https://cornerbookstorenyc.com
X-WR-CALDESC:Events for Corner Bookstore
REFRESH-INTERVAL;VALUE=DURATION:PT1H
X-Robots-Tag:noindex
X-PUBLISHED-TTL:PT1H
BEGIN:VTIMEZONE
TZID:America/New_York
BEGIN:DAYLIGHT
TZOFFSETFROM:-0500
TZOFFSETTO:-0400
TZNAME:EDT
DTSTART:20240310T070000
END:DAYLIGHT
BEGIN:STANDARD
TZOFFSETFROM:-0400
TZOFFSETTO:-0500
TZNAME:EST
DTSTART:20241103T060000
END:STANDARD
BEGIN:DAYLIGHT
TZOFFSETFROM:-0500
TZOFFSETTO:-0400
TZNAME:EDT
DTSTART:20250309T070000
END:DAYLIGHT
BEGIN:STANDARD
TZOFFSETFROM:-0400
TZOFFSETTO:-0500
TZNAME:EST
DTSTART:20251102T060000
END:STANDARD
BEGIN:DAYLIGHT
TZOFFSETFROM:-0500
TZOFFSETTO:-0400
TZNAME:EDT
DTSTART:20260308T070000
END:DAYLIGHT
BEGIN:STANDARD
TZOFFSETFROM:-0400
TZOFFSETTO:-0500
TZNAME:EST
DTSTART:20261101T060000
END:STANDARD
END:VTIMEZONE
BEGIN:VEVENT
DTSTART;TZID=America/New_York:20250220T180000
DTEND;TZID=America/New_York:20250220T193000
DTSTAMP:20260424T104944
CREATED:20250103T161108Z
LAST-MODIFIED:20250103T161849Z
UID:11318-1740074400-1740079800@cornerbookstorenyc.com
SUMMARY:Laura Robson launches her debut A Curse for the Homesick
DESCRIPTION:On Stenland\, there comes a time known as skeld season: one day\, any woman on the island can wake with three black lines on her forehead\, the mark of a skeld. Skeld season comes around without warning\, and while each window of time lasts only three months\, anyone a skeld turns to stone is very much dead. \nThat’s how Tess’s mother killed Soren’s parents. Maybe for this reason alone\, Tess and Soren should not have fallen in love. Since the time her mother was a skeld\, Tess has wanted to leave Stenland\, to run from the windswept island\, from her family and friends. She is unwilling to bear the responsibility of one day killing anyone\, let alone someone she loves. Soren has been determined to stay\, to live out his life in the place he knows as home\, even if that life could be cut short during the latest skeld season. They cannot see eye to eye—and yet they cannot stay apart. She tries to come back for him. He tries to leave for her. But can your love for one person outweigh everything else combined? And how do you decide how much you’re willing to risk\, if it might mean destroying someone else in the process?
URL:https://cornerbookstorenyc.com/event/laura-robson-launches-her-debut-a-curse-for-the-homesick/
CATEGORIES:Readings
END:VEVENT
END:VCALENDAR