BEGIN:VCALENDAR
VERSION:2.0
PRODID:-//Corner Bookstore - ECPv6.15.20//NONSGML v1.0//EN
CALSCALE:GREGORIAN
METHOD:PUBLISH
X-ORIGINAL-URL:https://cornerbookstorenyc.com
X-WR-CALDESC:Events for Corner Bookstore
REFRESH-INTERVAL;VALUE=DURATION:PT1H
X-Robots-Tag:noindex
X-PUBLISHED-TTL:PT1H
BEGIN:VTIMEZONE
TZID:America/New_York
BEGIN:DAYLIGHT
TZOFFSETFROM:-0500
TZOFFSETTO:-0400
TZNAME:EDT
DTSTART:20240310T070000
END:DAYLIGHT
BEGIN:STANDARD
TZOFFSETFROM:-0400
TZOFFSETTO:-0500
TZNAME:EST
DTSTART:20241103T060000
END:STANDARD
BEGIN:DAYLIGHT
TZOFFSETFROM:-0500
TZOFFSETTO:-0400
TZNAME:EDT
DTSTART:20250309T070000
END:DAYLIGHT
BEGIN:STANDARD
TZOFFSETFROM:-0400
TZOFFSETTO:-0500
TZNAME:EST
DTSTART:20251102T060000
END:STANDARD
BEGIN:DAYLIGHT
TZOFFSETFROM:-0500
TZOFFSETTO:-0400
TZNAME:EDT
DTSTART:20260308T070000
END:DAYLIGHT
BEGIN:STANDARD
TZOFFSETFROM:-0400
TZOFFSETTO:-0500
TZNAME:EST
DTSTART:20261101T060000
END:STANDARD
END:VTIMEZONE
BEGIN:VEVENT
DTSTART;TZID=America/New_York:20250123T180000
DTEND;TZID=America/New_York:20250123T193000
DTSTAMP:20260424T121445
CREATED:20241127T151326Z
LAST-MODIFIED:20241224T155551Z
UID:11236-1737655200-1737660600@cornerbookstorenyc.com
SUMMARY:Cynthia Weiner discusses her new book A Gorgeous Excitement with editor Amy Einhorn
DESCRIPTION:There are two things Nina Jacobs is determined to do over the summer of 1986: avoid her mother’s depression-fueled rages\, and lose her virginity before she starts college in the fall. Both are seemingly impossible—when her mother isn’t lying in bed for days\, she’s lashing out at Nina over any perceived slight. And after a blowjob gone spectacularly wrong\, Nina is the talk of Flanagan’s\, the Upper East Side bar where young Manhattan society congregates. It doesn’t help that she’s Jewish\, an outsider among the blue-eyed blondes who populate this rarified world. She can fit in\, kind of\, with enough alcohol and prescription drugs stolen from her parents’ medicine cabinet. \nFlanagan’s is where she pines for the handsome\, preppy\, and charismatic Gardner Reed. Every girl wants to sleep with him and every guy wants to be him. After she’s introduced to cocaine\, Nina plunges headlong into her pursuit of Gardner\, oblivious to the warning signs. When a new medication seemingly frees her mother from darkness\, and Nina and Gardner grow closer\, it seems like Nina might finally get what she wants. But at what cost? \nAmy Einhorn is SVP\, Publisher of Fiction at Crown Publishing Group
URL:https://cornerbookstorenyc.com/event/cynthia-weiner-launches-her-new-book-a-gorgeous-excitement/
CATEGORIES:Readings
END:VEVENT
END:VCALENDAR