BEGIN:VCALENDAR
VERSION:2.0
PRODID:-//Corner Bookstore - ECPv6.15.20//NONSGML v1.0//EN
CALSCALE:GREGORIAN
METHOD:PUBLISH
X-WR-CALNAME:Corner Bookstore
X-ORIGINAL-URL:https://cornerbookstorenyc.com
X-WR-CALDESC:Events for Corner Bookstore
REFRESH-INTERVAL;VALUE=DURATION:PT1H
X-Robots-Tag:noindex
X-PUBLISHED-TTL:PT1H
BEGIN:VTIMEZONE
TZID:America/New_York
BEGIN:DAYLIGHT
TZOFFSETFROM:-0500
TZOFFSETTO:-0400
TZNAME:EDT
DTSTART:20240310T070000
END:DAYLIGHT
BEGIN:STANDARD
TZOFFSETFROM:-0400
TZOFFSETTO:-0500
TZNAME:EST
DTSTART:20241103T060000
END:STANDARD
BEGIN:DAYLIGHT
TZOFFSETFROM:-0500
TZOFFSETTO:-0400
TZNAME:EDT
DTSTART:20250309T070000
END:DAYLIGHT
BEGIN:STANDARD
TZOFFSETFROM:-0400
TZOFFSETTO:-0500
TZNAME:EST
DTSTART:20251102T060000
END:STANDARD
BEGIN:DAYLIGHT
TZOFFSETFROM:-0500
TZOFFSETTO:-0400
TZNAME:EDT
DTSTART:20260308T070000
END:DAYLIGHT
BEGIN:STANDARD
TZOFFSETFROM:-0400
TZOFFSETTO:-0500
TZNAME:EST
DTSTART:20261101T060000
END:STANDARD
END:VTIMEZONE
BEGIN:VEVENT
DTSTART;TZID=America/New_York:20250113T180000
DTEND;TZID=America/New_York:20250113T193000
DTSTAMP:20260424T121320
CREATED:20241126T161932Z
LAST-MODIFIED:20241212T174843Z
UID:11230-1736791200-1736796600@cornerbookstorenyc.com
SUMMARY:Andy Corren discusses his debut memoir Dirtbag Queen with actor Ryan Eggold
DESCRIPTION:“Because she was my mother\, the death of zaftig good-time gal Renay Corren is newsworthy to me\, and I treat it with the same respect and reverence she had for\, well\, nothing. A more disrespectful\, trash talking woman was not to be found.” \nSo began Andy Corren’s unforgettable obituary for his mother\, Renay Mandel Corren\, a tribute that went on to touch the hearts of millions around the globe. In his brief telling of the life and legend that was Renay\, a “loud\, filthy‑minded (and filthy‑mouthed) Jewish lady redneck who birthed six kids\,” Andy captured only a slice of his loving and fabulously unconventional mother. \nIn this uproariously funny\, deeply moving family portrait\, readers meet the rest of his absurd clan: his brothers\, affectionately nicknamed Asshole\, Twin\, and Rabbi; his one-eyed pirate queen of a sister\, Cathy Sue; and then there’s Bonus\, who Andy isn’t aware of until later in life since this mysterious oldest brother grew up at the Green Valley School for Emotionally Disturbed and Delinquent Children.
URL:https://cornerbookstorenyc.com/event/andy-corren-discusses-his-debut-memoir-dirtbag-queen/
CATEGORIES:Readings
END:VEVENT
END:VCALENDAR