BEGIN:VCALENDAR
VERSION:2.0
PRODID:-//Corner Bookstore - ECPv6.15.20//NONSGML v1.0//EN
CALSCALE:GREGORIAN
METHOD:PUBLISH
X-WR-CALNAME:Corner Bookstore
X-ORIGINAL-URL:https://cornerbookstorenyc.com
X-WR-CALDESC:Events for Corner Bookstore
REFRESH-INTERVAL;VALUE=DURATION:PT1H
X-Robots-Tag:noindex
X-PUBLISHED-TTL:PT1H
BEGIN:VTIMEZONE
TZID:America/New_York
BEGIN:DAYLIGHT
TZOFFSETFROM:-0500
TZOFFSETTO:-0400
TZNAME:EDT
DTSTART:20230312T070000
END:DAYLIGHT
BEGIN:STANDARD
TZOFFSETFROM:-0400
TZOFFSETTO:-0500
TZNAME:EST
DTSTART:20231105T060000
END:STANDARD
BEGIN:DAYLIGHT
TZOFFSETFROM:-0500
TZOFFSETTO:-0400
TZNAME:EDT
DTSTART:20240310T070000
END:DAYLIGHT
BEGIN:STANDARD
TZOFFSETFROM:-0400
TZOFFSETTO:-0500
TZNAME:EST
DTSTART:20241103T060000
END:STANDARD
BEGIN:DAYLIGHT
TZOFFSETFROM:-0500
TZOFFSETTO:-0400
TZNAME:EDT
DTSTART:20250309T070000
END:DAYLIGHT
BEGIN:STANDARD
TZOFFSETFROM:-0400
TZOFFSETTO:-0500
TZNAME:EST
DTSTART:20251102T060000
END:STANDARD
END:VTIMEZONE
BEGIN:VEVENT
DTSTART;TZID=America/New_York:20241114T180000
DTEND;TZID=America/New_York:20241114T193000
DTSTAMP:20260424T150653
CREATED:20240919T153234Z
LAST-MODIFIED:20240919T153234Z
UID:11190-1731607200-1731612600@cornerbookstorenyc.com
SUMMARY:Molly Peacock reads from her new collection of poetry The Widow's Crayon Box
DESCRIPTION:After her husband’s death\, Molly Peacock realized she was not living the received idea of a widow’s mauve existence but instead was experiencing life in all colors. These gorgeous poems—joyful\, furious\, mournful\, bewildered\, sexy\, devastated\, whimsical and above all\, moving—composed in sonnet sequences and in open forms\, designed in four movements (After\, Before\, When\, and Afterglow)—illuminate both the role of the caregiver and the crystalline emotions one can experience after the death of a cherished partner. With her characteristic virtuosity\, her fearless willingness to confront even the most difficult emotions\, and always with buoyancy and zest\, Peacock charts widowhood in the twenty-first century.
URL:https://cornerbookstorenyc.com/event/molly-peacock-reads-from-her-new-collection-of-poetry-the-widows-crayon-box/
CATEGORIES:Readings
END:VEVENT
END:VCALENDAR