BEGIN:VCALENDAR
VERSION:2.0
PRODID:-//Corner Bookstore - ECPv6.15.20//NONSGML v1.0//EN
CALSCALE:GREGORIAN
METHOD:PUBLISH
X-ORIGINAL-URL:https://cornerbookstorenyc.com
X-WR-CALDESC:Events for Corner Bookstore
REFRESH-INTERVAL;VALUE=DURATION:PT1H
X-Robots-Tag:noindex
X-PUBLISHED-TTL:PT1H
BEGIN:VTIMEZONE
TZID:America/New_York
BEGIN:DAYLIGHT
TZOFFSETFROM:-0500
TZOFFSETTO:-0400
TZNAME:EDT
DTSTART:20230312T070000
END:DAYLIGHT
BEGIN:STANDARD
TZOFFSETFROM:-0400
TZOFFSETTO:-0500
TZNAME:EST
DTSTART:20231105T060000
END:STANDARD
BEGIN:DAYLIGHT
TZOFFSETFROM:-0500
TZOFFSETTO:-0400
TZNAME:EDT
DTSTART:20240310T070000
END:DAYLIGHT
BEGIN:STANDARD
TZOFFSETFROM:-0400
TZOFFSETTO:-0500
TZNAME:EST
DTSTART:20241103T060000
END:STANDARD
BEGIN:DAYLIGHT
TZOFFSETFROM:-0500
TZOFFSETTO:-0400
TZNAME:EDT
DTSTART:20250309T070000
END:DAYLIGHT
BEGIN:STANDARD
TZOFFSETFROM:-0400
TZOFFSETTO:-0500
TZNAME:EST
DTSTART:20251102T060000
END:STANDARD
END:VTIMEZONE
BEGIN:VEVENT
DTSTART;TZID=America/New_York:20241010T180000
DTEND;TZID=America/New_York:20241010T193000
DTSTAMP:20260424T165107
CREATED:20240918T203154Z
LAST-MODIFIED:20240918T203154Z
UID:11173-1728583200-1728588600@cornerbookstorenyc.com
SUMMARY:Kate Greathead reads from her new book The Book of George
DESCRIPTION:If you haven’t had the misfortune of dating a George\, you know someone who has. He’s a young man brimming with potential but incapable of following through; sweet yet noncommittal to his long-suffering girlfriend; distant from but still reliant on his mother; charmingly funny one minute\, sullenly brooding the next. Here\, Kate Greathead paints one particular\, unforgettable George in a series of droll and surprisingly poignant snapshots of his life over two decades. \nDespite his failings\, it’s hard not to root for George at least a little. Beneath his cynicism is a reservoir of fondness for his girlfriend\, Jenny\, and her valiant willingness to put up with him. Each demonstration of his flaws is paired with a self-eviscerating comment. No one is more disappointed in him than himself (except maybe Jenny and his mother). As hilarious as it is resonant and as singular as it is universal\, The Book of George is a deft\, unexpectedly moving portrait of one man—but also countless others.
URL:https://cornerbookstorenyc.com/event/kate-greathead-reads-from-her-new-book-the-book-of-george/
CATEGORIES:Readings
END:VEVENT
END:VCALENDAR