BEGIN:VCALENDAR
VERSION:2.0
PRODID:-//Corner Bookstore - ECPv6.15.20//NONSGML v1.0//EN
CALSCALE:GREGORIAN
METHOD:PUBLISH
X-ORIGINAL-URL:https://cornerbookstorenyc.com
X-WR-CALDESC:Events for Corner Bookstore
REFRESH-INTERVAL;VALUE=DURATION:PT1H
X-Robots-Tag:noindex
X-PUBLISHED-TTL:PT1H
BEGIN:VTIMEZONE
TZID:America/New_York
BEGIN:DAYLIGHT
TZOFFSETFROM:-0500
TZOFFSETTO:-0400
TZNAME:EDT
DTSTART:20230312T070000
END:DAYLIGHT
BEGIN:STANDARD
TZOFFSETFROM:-0400
TZOFFSETTO:-0500
TZNAME:EST
DTSTART:20231105T060000
END:STANDARD
BEGIN:DAYLIGHT
TZOFFSETFROM:-0500
TZOFFSETTO:-0400
TZNAME:EDT
DTSTART:20240310T070000
END:DAYLIGHT
BEGIN:STANDARD
TZOFFSETFROM:-0400
TZOFFSETTO:-0500
TZNAME:EST
DTSTART:20241103T060000
END:STANDARD
BEGIN:DAYLIGHT
TZOFFSETFROM:-0500
TZOFFSETTO:-0400
TZNAME:EDT
DTSTART:20250309T070000
END:DAYLIGHT
BEGIN:STANDARD
TZOFFSETFROM:-0400
TZOFFSETTO:-0500
TZNAME:EST
DTSTART:20251102T060000
END:STANDARD
END:VTIMEZONE
BEGIN:VEVENT
DTSTART;TZID=America/New_York:20240925T180000
DTEND;TZID=America/New_York:20240925T193000
DTSTAMP:20260424T180358
CREATED:20240805T194236Z
LAST-MODIFIED:20240919T162719Z
UID:11053-1727287200-1727292600@cornerbookstorenyc.com
SUMMARY:Sarah Gronningsater in conversation about her new book The Rising Generation
DESCRIPTION:The Rising Generation chronicles the long history of emancipation in the United States through the cradle-to-grave experiences of a generation of black New Yorkers. Born into precarious freedom after the American Revolution and reaching adulthood in the lead-up to the Civil War\, this remarkable generation ultimately played an outsized role in political and legal conflicts over slavery’s future\, influencing both the nation’s path to the Civil War and changes to the US Constitution. \nSarah will be in conversation with author Matt McCarthy. Matt is the author of The Real Doctor Will See You Shortly & Odd Man Out
URL:https://cornerbookstorenyc.com/event/sarah-gronnigstater-in-conversation-about-her-new-book-the-rising-generation/
CATEGORIES:Readings
END:VEVENT
END:VCALENDAR