BEGIN:VCALENDAR
VERSION:2.0
PRODID:-//Corner Bookstore - ECPv6.15.20//NONSGML v1.0//EN
CALSCALE:GREGORIAN
METHOD:PUBLISH
X-ORIGINAL-URL:https://cornerbookstorenyc.com
X-WR-CALDESC:Events for Corner Bookstore
REFRESH-INTERVAL;VALUE=DURATION:PT1H
X-Robots-Tag:noindex
X-PUBLISHED-TTL:PT1H
BEGIN:VTIMEZONE
TZID:America/New_York
BEGIN:DAYLIGHT
TZOFFSETFROM:-0500
TZOFFSETTO:-0400
TZNAME:EDT
DTSTART:20240310T070000
END:DAYLIGHT
BEGIN:STANDARD
TZOFFSETFROM:-0400
TZOFFSETTO:-0500
TZNAME:EST
DTSTART:20241103T060000
END:STANDARD
BEGIN:DAYLIGHT
TZOFFSETFROM:-0500
TZOFFSETTO:-0400
TZNAME:EDT
DTSTART:20250309T070000
END:DAYLIGHT
BEGIN:STANDARD
TZOFFSETFROM:-0400
TZOFFSETTO:-0500
TZNAME:EST
DTSTART:20251102T060000
END:STANDARD
BEGIN:DAYLIGHT
TZOFFSETFROM:-0500
TZOFFSETTO:-0400
TZNAME:EDT
DTSTART:20260308T070000
END:DAYLIGHT
BEGIN:STANDARD
TZOFFSETFROM:-0400
TZOFFSETTO:-0500
TZNAME:EST
DTSTART:20261101T060000
END:STANDARD
END:VTIMEZONE
BEGIN:VEVENT
DTSTART;TZID=America/New_York:20250708T180000
DTEND;TZID=America/New_York:20250708T193000
DTSTAMP:20260424T014300
CREATED:20250522T184358Z
LAST-MODIFIED:20250522T184358Z
UID:11463-1751997600-1752003000@cornerbookstorenyc.com
SUMMARY:Amy Blumenfeld in conversation about her new book Such Good People
DESCRIPTION:It’s 10 p.m. on a Thursday in the spring of her freshman year of college\, and April is standing at the back of a crowded Manhattan bar waiting for her friend\, Rudy\, to arrive. Their eyes lock the moment he enters the room\, and in an instant\, lives and legacies are altered forever. \nWithin hours\, Rudy is arrested. Within days\, April is expelled. Within weeks\, he’s incarcerated. And within months\, she meets Peter\, a prodigious young attorney who makes her world recognizable again. \nNearly fifteen years later\, April is happily living in Chicago married to Peter\, a mother of three with a fulfilling career and standing yoga date with her girlfriends. On the eve of Peter’s election for local office\, Rudy is up for parole. Headlines explode about April’s past\, jeopardizing Peter’s campaign and everything they hold dear. Suddenly\, April is faced with an impossible choice: protecting the life she created\, or the person who sacrificed everything to make that life a possibility. Such Good People is a captivating portrait of blurred lines\, divided loyalties\, and what it means to love purely\, steadfastly\, and interminably. \nAmy will be in conversation with author Alyson Richman.
URL:https://cornerbookstorenyc.com/event/amy-blumenfeld-in-conversation-about-her-new-book-such-good-people/
CATEGORIES:Readings
END:VEVENT
BEGIN:VEVENT
DTSTART;TZID=America/New_York:20250722T180000
DTEND;TZID=America/New_York:20250722T193000
DTSTAMP:20260424T014300
CREATED:20250620T180045Z
LAST-MODIFIED:20250703T152056Z
UID:11485-1753207200-1753212600@cornerbookstorenyc.com
SUMMARY:Sarah Stein Lubrano launches her debut Don't Talk About Politics
DESCRIPTION:This provocative debut from a bold new voice combines a fascinating range of research to show us the psychological and sociological factors that really shape our politics. \nDrawing from ancient philosophy to modern neuroscience and social science\, Dr. Sarah Stein Lubrano reveals the surprising truth about how people think and behave politically. From friendship to community organizing and social infrastructure\, she explores the actions that actually do change minds. \nIn a world where politics keeps getting more irrational\, dishonest\, violent and chaotic\, it’s getting much harder to reach people with words alone. So people who really care about democracy must ask: how can we stop arguing and do the deep work to build stronger foundations for political life\, and a better world for us all? \n  \nDr. Lubrano will be in conversation with author Calvin Kalsuke. \n\nCalvin Kasulke is a writer\, podcast producer and transsexual menace living in Brooklyn. He is repped by Kent Wolf at Neon Literary.
URL:https://cornerbookstorenyc.com/event/sarah-stein-lubrano-launches-her-debut-dont-talk-politics/
CATEGORIES:Readings
END:VEVENT
END:VCALENDAR