BEGIN:VCALENDAR
VERSION:2.0
PRODID:-//Corner Bookstore - ECPv6.15.20//NONSGML v1.0//EN
CALSCALE:GREGORIAN
METHOD:PUBLISH
X-WR-CALNAME:Corner Bookstore
X-ORIGINAL-URL:https://cornerbookstorenyc.com
X-WR-CALDESC:Events for Corner Bookstore
REFRESH-INTERVAL;VALUE=DURATION:PT1H
X-Robots-Tag:noindex
X-PUBLISHED-TTL:PT1H
BEGIN:VTIMEZONE
TZID:America/New_York
BEGIN:DAYLIGHT
TZOFFSETFROM:-0500
TZOFFSETTO:-0400
TZNAME:EDT
DTSTART:20240310T070000
END:DAYLIGHT
BEGIN:STANDARD
TZOFFSETFROM:-0400
TZOFFSETTO:-0500
TZNAME:EST
DTSTART:20241103T060000
END:STANDARD
BEGIN:DAYLIGHT
TZOFFSETFROM:-0500
TZOFFSETTO:-0400
TZNAME:EDT
DTSTART:20250309T070000
END:DAYLIGHT
BEGIN:STANDARD
TZOFFSETFROM:-0400
TZOFFSETTO:-0500
TZNAME:EST
DTSTART:20251102T060000
END:STANDARD
BEGIN:DAYLIGHT
TZOFFSETFROM:-0500
TZOFFSETTO:-0400
TZNAME:EDT
DTSTART:20260308T070000
END:DAYLIGHT
BEGIN:STANDARD
TZOFFSETFROM:-0400
TZOFFSETTO:-0500
TZNAME:EST
DTSTART:20261101T060000
END:STANDARD
END:VTIMEZONE
BEGIN:VEVENT
DTSTART;TZID=America/New_York:20250415T180000
DTEND;TZID=America/New_York:20250415T193000
DTSTAMP:20260424T061505
CREATED:20250205T172713Z
LAST-MODIFIED:20250205T172713Z
UID:11354-1744740000-1744745400@cornerbookstorenyc.com
SUMMARY:Jillian Berman presents her debut Sunk Cost: Who's to Blame for the Nation's Broken Student Loan System and How to Fix It
DESCRIPTION:Student-loan horror stories are a dime a dozen. But students today are faced with a seemingly insurmountable paradox: Research consistently shows that the clearest viable option to financial stability is a college degree. But if and when Americans decide to pursue diplomas\, student loan payments quickly follow\, and even after securing full-time employment\, many borrowers struggle to make ends meet for years. In Sunk Cost\, journalist Jillian Berman explores how the nation’s student loan program went from a well-intentioned initiative aimed at helping low- and middle-income students afford college to one that traps borrowers in long-term debt.
URL:https://cornerbookstorenyc.com/event/jillian-berman-presents-her-debut-sunk-cost-whos-to-blame-for-the-nations-broken-student-loan-system-and-how-to-fix-it/
CATEGORIES:Readings
END:VEVENT
BEGIN:VEVENT
DTSTART;TZID=America/New_York:20250429T180000
DTEND;TZID=America/New_York:20250429T193000
DTSTAMP:20260424T061505
CREATED:20250305T190459Z
LAST-MODIFIED:20250311T174758Z
UID:11380-1745949600-1745955000@cornerbookstorenyc.com
SUMMARY:Colum McCann reads from his new novel Twist
DESCRIPTION:Anthony Fennell\, an Irish journalist and playwright\, is assigned to cover the underwater cables that carry the world’s information. The sum of human existence—words\, images\, transactions\, memes\, voices\, viruses—travels through the tiny fiber-optic tubes. But sometimes the tubes break\, at an unfathomable depth. \nFennell’s journey brings him to the west coast of Africa\, where he uncovers a story about the raw human labor behind the dazzling veneer of the technological world. He meets a fellow Irishman\, John Conway\, the chief of mission on a cable repair ship. The mysterious Conway is a skilled engineer and a freediver capable of reaching extraordinary depths. He is also in love with a South African actress\, Zanele\, who must leave to go on her own literary adventure to London. \nWhen the ship is sent up the coast to repair a series of major underwater breaks\, both men learn that the very cables they seek to fix carry the news that may cause their lives to unravel. At sea\, they are forced to confront the most elemental questions of life\, love\, absence\, belonging\, and the perils of our severed connections. Can we\, in our fractured world\, reweave ourselves out of the thin\, broken threads of our pasts? Can the ruptured things awaken us from our despair?
URL:https://cornerbookstorenyc.com/event/colum-mccann-reads-from-his-new-novel-twist/
CATEGORIES:Readings
END:VEVENT
END:VCALENDAR