BEGIN:VCALENDAR
VERSION:2.0
PRODID:-//Corner Bookstore - ECPv6.15.20//NONSGML v1.0//EN
CALSCALE:GREGORIAN
METHOD:PUBLISH
X-WR-CALNAME:Corner Bookstore
X-ORIGINAL-URL:https://cornerbookstorenyc.com
X-WR-CALDESC:Events for Corner Bookstore
REFRESH-INTERVAL;VALUE=DURATION:PT1H
X-Robots-Tag:noindex
X-PUBLISHED-TTL:PT1H
BEGIN:VTIMEZONE
TZID:America/New_York
BEGIN:DAYLIGHT
TZOFFSETFROM:-0500
TZOFFSETTO:-0400
TZNAME:EDT
DTSTART:20230312T070000
END:DAYLIGHT
BEGIN:STANDARD
TZOFFSETFROM:-0400
TZOFFSETTO:-0500
TZNAME:EST
DTSTART:20231105T060000
END:STANDARD
BEGIN:DAYLIGHT
TZOFFSETFROM:-0500
TZOFFSETTO:-0400
TZNAME:EDT
DTSTART:20240310T070000
END:DAYLIGHT
BEGIN:STANDARD
TZOFFSETFROM:-0400
TZOFFSETTO:-0500
TZNAME:EST
DTSTART:20241103T060000
END:STANDARD
BEGIN:DAYLIGHT
TZOFFSETFROM:-0500
TZOFFSETTO:-0400
TZNAME:EDT
DTSTART:20250309T070000
END:DAYLIGHT
BEGIN:STANDARD
TZOFFSETFROM:-0400
TZOFFSETTO:-0500
TZNAME:EST
DTSTART:20251102T060000
END:STANDARD
END:VTIMEZONE
BEGIN:VEVENT
DTSTART;TZID=America/New_York:20240716T180000
DTEND;TZID=America/New_York:20240716T193000
DTSTAMP:20260424T192918
CREATED:20240607T193356Z
LAST-MODIFIED:20240607T193356Z
UID:10764-1721152800-1721158200@cornerbookstorenyc.com
SUMMARY:Phillip Lopate launches his latest book My Affair with Art House Cinema
DESCRIPTION:Phillip Lopate fell hard for the movies as an adolescent. As he matured into an acclaimed critic and essayist\, his infatuation deepened into a lifelong passion. My Affair with Art House Cinema presents Lopate’s selected essays and reviews from the last quarter century\, inviting readers to experience films he found exhilarating\, tantalizing\, and beguiling–and sometimes disappointing or frustrating–through his keen eyes. \nIn an essayist’s sinuous prose style\, Lopate captures the formal mastery\, artistic imagination\, and emotional intensity of art house essentials like Yasujirō Ozu’s Late Spring\, David Lynch’s Mulholland Drive\, and Andrei Tarkovsky’s Solaris\, as well as works by contemporary filmmakers such as Maren Ade\, Hong Sang-soo\, Hou Hsiao-hsien\, Christian Petzold\, Paolo Sorrentino\, and Jafar Panahi. Essays explore Chantal Akerman’s rigorous honesty\, Ingmar Bergman’s intimacy\, Abbas Kiarostami’s playfulness\, Kenji Mizoguchi’s visual style\, and Frederick Wiseman’s vision of the human condition. Lopate also reflects on the work of fellow critics\, including Roger Ebert\, Pauline Kael\, and Jonathan Rosenbaum. His considered\, at times contrarian critiques and celebrations will inspire readers to watch or rewatch these films. Above all\, this book showcases Lopate’s passionate advocacy for not only particular films and directors but also the joys and value of a filmgoing culture.
URL:https://cornerbookstorenyc.com/event/phillip-lopate-launches-his-latest-book-my-affair-with-art-house-cinema/
CATEGORIES:Readings
END:VEVENT
END:VCALENDAR